BEGIN:VCALENDAR
VERSION:2.0
PRODID:-//La Sonrisa del Lagarto - ECPv6.13.2.1//NONSGML v1.0//EN
CALSCALE:GREGORIAN
METHOD:PUBLISH
X-ORIGINAL-URL:https://lasonrisadellagarto.com
X-WR-CALDESC:Eventos para La Sonrisa del Lagarto
REFRESH-INTERVAL;VALUE=DURATION:PT1H
X-Robots-Tag:noindex
X-PUBLISHED-TTL:PT1H
BEGIN:VTIMEZONE
TZID:Europe/Madrid
BEGIN:DAYLIGHT
TZOFFSETFROM:+0100
TZOFFSETTO:+0200
TZNAME:CEST
DTSTART:20240331T010000
END:DAYLIGHT
BEGIN:STANDARD
TZOFFSETFROM:+0200
TZOFFSETTO:+0100
TZNAME:CET
DTSTART:20241027T010000
END:STANDARD
END:VTIMEZONE
BEGIN:VEVENT
DTSTART;TZID=Europe/Madrid:20241221T180000
DTEND;TZID=Europe/Madrid:20241222T190000
DTSTAMP:20260424T223551
CREATED:20241203T191808Z
LAST-MODIFIED:20241203T191958Z
UID:5769-1734804000-1734894000@lasonrisadellagarto.com
SUMMARY:OHIÁ_Teatro de la Estrella(Valencia)
DESCRIPTION:OHIÁ \n\n\n\nEspectáculo pensado para el disfrute del público infantil y familiar fusiona la técnica de sombras chinescas con el mecanismo de la caja crankie.Ohiá\, un pequeño diente de león\, en busca de sus lindas esporas\, emprende un viaje onírico lleno de aventuras\, emociones y cambios sorprendentes que le ayudarán a comprender la belleza de la zaranda de la vida. Brotar\, florecer\, marchitar y… volver a brotar.
URL:https://lasonrisadellagarto.com/agenda/ohia_teatro-de-la-estrellavalencia/
LOCATION:Teatro La estrella\, C/ Doctor Sanchis Bergón\, 29 València\, Valencia\, 46008\, España
ATTACH;FMTTYPE=image/jpeg:https://lasonrisadellagarto.com/wp-content/uploads/2023/04/la-sonrisa-del-lagarto-ohia-01.jpg
END:VEVENT
END:VCALENDAR