BEGIN:VCALENDAR
VERSION:2.0
PRODID:-//La Sonrisa del Lagarto - ECPv6.13.2.1//NONSGML v1.0//EN
CALSCALE:GREGORIAN
METHOD:PUBLISH
X-WR-CALNAME:La Sonrisa del Lagarto
X-ORIGINAL-URL:https://lasonrisadellagarto.com
X-WR-CALDESC:Eventos para La Sonrisa del Lagarto
REFRESH-INTERVAL;VALUE=DURATION:PT1H
X-Robots-Tag:noindex
X-PUBLISHED-TTL:PT1H
BEGIN:VTIMEZONE
TZID:Europe/Madrid
BEGIN:DAYLIGHT
TZOFFSETFROM:+0100
TZOFFSETTO:+0200
TZNAME:CEST
DTSTART:20250330T010000
END:DAYLIGHT
BEGIN:STANDARD
TZOFFSETFROM:+0200
TZOFFSETTO:+0100
TZNAME:CET
DTSTART:20251026T010000
END:STANDARD
END:VTIMEZONE
BEGIN:VEVENT
DTSTART;TZID=Europe/Madrid:20250312T180000
DTEND;TZID=Europe/Madrid:20250312T190000
DTSTAMP:20260424T175327
CREATED:20250210T192927Z
LAST-MODIFIED:20250210T192929Z
UID:6233-1741802400-1741806000@lasonrisadellagarto.com
SUMMARY:LA RATITA PRESUMIDA_Casa de Cultura (Cangas del Narcea)
DESCRIPTION:LA RATITA PRESUMIDA \n\n\n\nCuento inspirado en el clásico de Charles Perrault\, que narra la historia de una ratita coqueta que cae en las garras de un gato que la seduce con sus requiebros. ¿Se salvará a tiempo la ingenua ratita de las verdaderas intenciones del peligroso felino?
URL:https://lasonrisadellagarto.com/agenda/la-ratita-presumida_casa-de-cultura-cangas-del-narcea/
LOCATION:Casa de Cultura – Cangas del Narcea\, Plaza Mayor 1\, Cangas del Narcea\, Asturias\, 33800\, España
ATTACH;FMTTYPE=image/jpeg:https://lasonrisadellagarto.com/wp-content/uploads/2024/05/Foto-Arte-en-la-Calle-2024-scaled.jpg
END:VEVENT
END:VCALENDAR