BEGIN:VCALENDAR
VERSION:2.0
PRODID:-//La Sonrisa del Lagarto - ECPv6.13.2.1//NONSGML v1.0//EN
CALSCALE:GREGORIAN
METHOD:PUBLISH
X-ORIGINAL-URL:https://lasonrisadellagarto.com
X-WR-CALDESC:Eventos para La Sonrisa del Lagarto
REFRESH-INTERVAL;VALUE=DURATION:PT1H
X-Robots-Tag:noindex
X-PUBLISHED-TTL:PT1H
BEGIN:VTIMEZONE
TZID:Europe/Madrid
BEGIN:DAYLIGHT
TZOFFSETFROM:+0100
TZOFFSETTO:+0200
TZNAME:CEST
DTSTART:20250330T010000
END:DAYLIGHT
BEGIN:STANDARD
TZOFFSETFROM:+0200
TZOFFSETTO:+0100
TZNAME:CET
DTSTART:20251026T010000
END:STANDARD
END:VTIMEZONE
BEGIN:VEVENT
DTSTART;TZID=Europe/Madrid:20250326T103000
DTEND;TZID=Europe/Madrid:20250326T133000
DTSTAMP:20260424T175601
CREATED:20250122T102901Z
LAST-MODIFIED:20250305T113010Z
UID:6063-1742985000-1742995800@lasonrisadellagarto.com
SUMMARY:OHIÁ_Villafranca de los Barros(Badajoz)
DESCRIPTION:OHIÁ \n\n\n\nUn pequeño diente de león en busca de sus lindas esporas\, emprenderá un viaje lleno de aventuras y emociones en el que comprenderá la belleza de la vida. Pequeños insectos\, gigantes renacuajos\, pájaros de colores\, flores exóticas y plantas habladoras le acompañarán en este viaje. \n\n\n\nDos funciones matinales\, 10:30 y 12:30 h. \n\n\n\n«Ohiá» – La Sonrisa del Lagarto©Luís Aniceto
URL:https://lasonrisadellagarto.com/agenda/ohia_sala-negralogrono-2/
LOCATION:Casa de Cultura Villafranca de los Barros\, Av del Tierno Galván\,s/n\, Villafranca de los Barros - Badajoz\, Badajoz\, 06220\, España
ATTACH;FMTTYPE=image/jpeg:https://lasonrisadellagarto.com/wp-content/uploads/2023/04/la-sonrisa-del-lagarto-Almada-OHIA-20.jpg
END:VEVENT
END:VCALENDAR