BEGIN:VCALENDAR
VERSION:2.0
PRODID:-//La Sonrisa del Lagarto - ECPv6.13.2.1//NONSGML v1.0//EN
CALSCALE:GREGORIAN
METHOD:PUBLISH
X-WR-CALNAME:La Sonrisa del Lagarto
X-ORIGINAL-URL:https://lasonrisadellagarto.com
X-WR-CALDESC:Eventos para La Sonrisa del Lagarto
REFRESH-INTERVAL;VALUE=DURATION:PT1H
X-Robots-Tag:noindex
X-PUBLISHED-TTL:PT1H
BEGIN:VTIMEZONE
TZID:Europe/Madrid
BEGIN:DAYLIGHT
TZOFFSETFROM:+0100
TZOFFSETTO:+0200
TZNAME:CEST
DTSTART:20250330T010000
END:DAYLIGHT
BEGIN:STANDARD
TZOFFSETFROM:+0200
TZOFFSETTO:+0100
TZNAME:CET
DTSTART:20251026T010000
END:STANDARD
END:VTIMEZONE
BEGIN:VEVENT
DTSTART;TZID=Europe/Madrid:20250517T000000
DTEND;TZID=Europe/Madrid:20250517T130000
DTSTAMP:20260424T144307
CREATED:20250430T110842Z
LAST-MODIFIED:20250430T154846Z
UID:6744-1747440000-1747486800@lasonrisadellagarto.com
SUMMARY:LA MONA SIMONA_Festival TITIRISUELA La Iglesuela del Tiétar (Toledo)
DESCRIPTION:LA MONA SIMONA \n\n\n\nColgada de una rama de un milenario Baobab\, la mona Simona espera soñolienta la llegada del alba para saludar al astro rey\, el Sol. A todos los otros animales que pasan por debajo su árbol les invita a ver el gran espectáculo\, y para ahuyentar el sueño y la soledad de la espera\, les pide que le cuente un cuento mientras. \n\n\n\n\nEspectaculo La Mona Simona
URL:https://lasonrisadellagarto.com/agenda/la-mona-simona_festival-titirisuela-la-iglesuela-del-tietar-toledo/
LOCATION:Iglesuela del Tietar\, Av. Sierra de San Vicente\, 82\, La Iglesuela del Tiétar\, 45633\, Spain
ATTACH;FMTTYPE=image/jpeg:https://lasonrisadellagarto.com/wp-content/uploads/2025/04/Cartel-titirisuela2025-1.jpeg
END:VEVENT
END:VCALENDAR