BEGIN:VCALENDAR
VERSION:2.0
PRODID:-//La Sonrisa del Lagarto - ECPv6.13.2.1//NONSGML v1.0//EN
CALSCALE:GREGORIAN
METHOD:PUBLISH
X-ORIGINAL-URL:https://lasonrisadellagarto.com
X-WR-CALDESC:Eventos para La Sonrisa del Lagarto
REFRESH-INTERVAL;VALUE=DURATION:PT1H
X-Robots-Tag:noindex
X-PUBLISHED-TTL:PT1H
BEGIN:VTIMEZONE
TZID:Europe/Madrid
BEGIN:DAYLIGHT
TZOFFSETFROM:+0100
TZOFFSETTO:+0200
TZNAME:CEST
DTSTART:20260329T010000
END:DAYLIGHT
BEGIN:STANDARD
TZOFFSETFROM:+0200
TZOFFSETTO:+0100
TZNAME:CET
DTSTART:20261025T010000
END:STANDARD
END:VTIMEZONE
BEGIN:VEVENT
DTSTART;TZID=Europe/Madrid:20260213T173000
DTEND;TZID=Europe/Madrid:20260213T183000
DTSTAMP:20260423T051914
CREATED:20251216T190539Z
LAST-MODIFIED:20260113T172124Z
UID:8701-1771003800-1771007400@lasonrisadellagarto.com
SUMMARY:LA RATITA PRESUMIDA_Teatro Auditorio  (Pola de Siero)
DESCRIPTION:LA RATITA PRESUMIDA \n\n\n\nCuento inspirado en el clásico de Charles Perrault\, que narra la historia de una ratita coqueta que cae en las garras de un gato que la seduce con sus requiebros. ¿Se salvará a tiempo la ingenua ratita de las verdaderas intenciones del peligroso felino?
URL:https://lasonrisadellagarto.com/agenda/la-ratita-presumida_teatro-auditorio-pola-de-siero/
ATTACH;FMTTYPE=image/jpeg:https://lasonrisadellagarto.com/wp-content/uploads/2024/05/Foto-Arte-en-la-Calle-2024-scaled.jpg
END:VEVENT
END:VCALENDAR