BEGIN:VCALENDAR
VERSION:2.0
PRODID:-//La Sonrisa del Lagarto - ECPv6.13.2.1//NONSGML v1.0//EN
CALSCALE:GREGORIAN
METHOD:PUBLISH
X-WR-CALNAME:La Sonrisa del Lagarto
X-ORIGINAL-URL:https://lasonrisadellagarto.com
X-WR-CALDESC:Eventos para La Sonrisa del Lagarto
REFRESH-INTERVAL;VALUE=DURATION:PT1H
X-Robots-Tag:noindex
X-PUBLISHED-TTL:PT1H
BEGIN:VTIMEZONE
TZID:Europe/Madrid
BEGIN:DAYLIGHT
TZOFFSETFROM:+0100
TZOFFSETTO:+0200
TZNAME:CEST
DTSTART:20260329T010000
END:DAYLIGHT
BEGIN:STANDARD
TZOFFSETFROM:+0200
TZOFFSETTO:+0100
TZNAME:CET
DTSTART:20261025T010000
END:STANDARD
END:VTIMEZONE
BEGIN:VEVENT
DTSTART;TZID=Europe/Madrid:20260426T180000
DTEND;TZID=Europe/Madrid:20260426T190000
DTSTAMP:20260426T014642
CREATED:20260310T080847Z
LAST-MODIFIED:20260421T165804Z
UID:8875-1777226400-1777230000@lasonrisadellagarto.com
SUMMARY:LA MONA SIMONA_25º Festival Internacional de Teatro Infantil en Taza (Marruecos)
DESCRIPTION:LA MONA SIMONA \n\n\n\nIniciamos gira internacional 2026 en el 25º Festival Internacional de Teatro Infantil en Taza (Marruecos)\, con nuestro laureado espectáculo LA MONA SIMONA.
URL:https://lasonrisadellagarto.com/agenda/la-mona-simona_25o-festival-internacional-de-teatro-infantil-en-taza-marruecos/
ATTACH;FMTTYPE=image/jpeg:https://lasonrisadellagarto.com/wp-content/uploads/2026/03/cartel.jpeg
END:VEVENT
END:VCALENDAR