BEGIN:VCALENDAR
VERSION:2.0
PRODID:-//La Sonrisa del Lagarto - ECPv6.13.2.1//NONSGML v1.0//EN
CALSCALE:GREGORIAN
METHOD:PUBLISH
X-WR-CALNAME:La Sonrisa del Lagarto
X-ORIGINAL-URL:https://lasonrisadellagarto.com
X-WR-CALDESC:Eventos para La Sonrisa del Lagarto
REFRESH-INTERVAL;VALUE=DURATION:PT1H
X-Robots-Tag:noindex
X-PUBLISHED-TTL:PT1H
BEGIN:VTIMEZONE
TZID:Europe/Madrid
BEGIN:DAYLIGHT
TZOFFSETFROM:+0100
TZOFFSETTO:+0200
TZNAME:CEST
DTSTART:20250330T010000
END:DAYLIGHT
BEGIN:STANDARD
TZOFFSETFROM:+0200
TZOFFSETTO:+0100
TZNAME:CET
DTSTART:20251026T010000
END:STANDARD
BEGIN:DAYLIGHT
TZOFFSETFROM:+0100
TZOFFSETTO:+0200
TZNAME:CEST
DTSTART:20260329T010000
END:DAYLIGHT
BEGIN:STANDARD
TZOFFSETFROM:+0200
TZOFFSETTO:+0100
TZNAME:CET
DTSTART:20261025T010000
END:STANDARD
END:VTIMEZONE
BEGIN:VEVENT
DTSTART;TZID=Europe/Madrid:20250510T180000
DTEND;TZID=Europe/Madrid:20250510T190000
DTSTAMP:20260424T175658
CREATED:20250210T193931Z
LAST-MODIFIED:20250210T200128Z
UID:6240-1746900000-1746903600@lasonrisadellagarto.com
SUMMARY:AMARES_Teatro Patraix _Valencia FESTIVAL ALLIBERA`T
DESCRIPTION:Una historia de amor y amistad casi imposible. Sus protagonistas son Adela\, una mujer extremadamente sensible\, y Aurora\, siempre envuelta en un aura de misterio. Un relato espejo de la fragilidad humana. Como un gato negro que cruza lentamente el camino irrumpe el silencio y desvela la poesía de las palabras agridulces.
URL:https://lasonrisadellagarto.com/agenda/amares_teatro-patraix-_valencia-festival-alliberat/
LOCATION:Teatro Patraix\, HUMANISTA MARINER\, 16\, VALENCIA\, 46018\, España
ATTACH;FMTTYPE=image/jpeg:https://lasonrisadellagarto.com/wp-content/uploads/2023/04/la-sonrisa-del-lagarto-amares-07-1-scaled.jpg
END:VEVENT
BEGIN:VEVENT
DTSTART;TZID=Europe/Madrid:20250517T000000
DTEND;TZID=Europe/Madrid:20250517T130000
DTSTAMP:20260424T175658
CREATED:20250430T110842Z
LAST-MODIFIED:20250430T154846Z
UID:6744-1747440000-1747486800@lasonrisadellagarto.com
SUMMARY:LA MONA SIMONA_Festival TITIRISUELA La Iglesuela del Tiétar (Toledo)
DESCRIPTION:LA MONA SIMONA \n\n\n\nColgada de una rama de un milenario Baobab\, la mona Simona espera soñolienta la llegada del alba para saludar al astro rey\, el Sol. A todos los otros animales que pasan por debajo su árbol les invita a ver el gran espectáculo\, y para ahuyentar el sueño y la soledad de la espera\, les pide que le cuente un cuento mientras. \n\n\n\n\nEspectaculo La Mona Simona
URL:https://lasonrisadellagarto.com/agenda/la-mona-simona_festival-titirisuela-la-iglesuela-del-tietar-toledo/
LOCATION:Iglesuela del Tietar\, Av. Sierra de San Vicente\, 82\, La Iglesuela del Tiétar\, 45633\, Spain
ATTACH;FMTTYPE=image/jpeg:https://lasonrisadellagarto.com/wp-content/uploads/2025/04/Cartel-titirisuela2025-1.jpeg
END:VEVENT
BEGIN:VEVENT
DTSTART;TZID=Europe/Madrid:20250522T000000
DTEND;TZID=Europe/Madrid:20250531T130000
DTSTAMP:20260424T175658
CREATED:20250505T061632Z
LAST-MODIFIED:20250505T061632Z
UID:6805-1747872000-1748696400@lasonrisadellagarto.com
SUMMARY:XII Festival internacional de teatro do ALENTEJO (Portugal)
DESCRIPTION:LA MONA SIMONA – AMARES \n\n\n\nLa Mona Simona y Amares son los dos espectáculos de la compañía con los que vamos a participar en el XII Festival Internacional de teatro do ALENTEJO en Portugal. \n\n\n\nNuestras actuaciones:25 Mayo_ Santiago do Cacem _ Auditorio Municipal de Alvarade27 Mayo _ Ponte do Sor_Centro Cultural de Montargil29 Mayo_ Mértola_Cine Teatro Marqués Duque31 Mayo _ Odemira_Cineteatro Camacho Costa
URL:https://lasonrisadellagarto.com/agenda/xii-festival-internacional-de-teatro-do-alentejo-portugal/
ATTACH;FMTTYPE=image/jpeg:https://lasonrisadellagarto.com/wp-content/uploads/2025/05/CARTEL-FESTIVAL-FITA.jpg
END:VEVENT
BEGIN:VEVENT
DTSTART;TZID=Europe/Madrid:20250606T193000
DTEND;TZID=Europe/Madrid:20250606T203000
DTSTAMP:20260424T175658
CREATED:20240705T070652Z
LAST-MODIFIED:20250605T164431Z
UID:4899-1749238200-1749241800@lasonrisadellagarto.com
SUMMARY:BASURILLA_Teatro Clarín_Soto del Barco(Asturias)
DESCRIPTION:Basurilla\, una simpática basurera pasa el día limpiando y recogiendo la basura de las calles. Pero lo que más le gusta es usar la imaginación y s transformar los objetos en juguetes divertidos Es sorprendente las montañas de basura que somos capaces de generar.
URL:https://lasonrisadellagarto.com/agenda/basurilla_soto-del-barcoasturias/
LOCATION:Teatro Clarin – Soto del Barco\, Avda del Campo 10\, soto del barco\, españa\, 33216\, España
ATTACH;FMTTYPE=image/jpeg:https://lasonrisadellagarto.com/wp-content/uploads/2023/04/La-sonrisa-del-lagarto-basurilla-Principal-02.jpg
END:VEVENT
BEGIN:VEVENT
DTSTART;TZID=Europe/Madrid:20250613T173000
DTEND;TZID=Europe/Madrid:20250613T203000
DTSTAMP:20260424T175658
CREATED:20250605T165227Z
LAST-MODIFIED:20250605T165228Z
UID:7122-1749835800-1749846600@lasonrisadellagarto.com
SUMMARY:MALAIKA_Centro Cultural Pilar Miró(Madrid)
DESCRIPTION:Malaika\, princesa de una manada de elefantes\, vive sobre el lomo de su padre Komba. En un largo viaje para encontrar los bebederos de agua\, se enfrentará a difíciles pruebas y un gran aprendizaje: la memoria es la clave de la supervivencia de los elefantes
URL:https://lasonrisadellagarto.com/agenda/malaika_centro-cultural-pilar-miromadrid/
LOCATION:Centro Cultural Pilar Miró\, C/ Enrique García Álvarez\, 14\, Madrid (Vallecas)\, \, 28031\, Spain
ATTACH;FMTTYPE=image/jpeg:https://lasonrisadellagarto.com/wp-content/uploads/2025/02/Malaika-1-jpeg.jpeg
END:VEVENT
BEGIN:VEVENT
DTSTART;TZID=Europe/Madrid:20250628T000000
DTEND;TZID=Europe/Madrid:20250628T130000
DTSTAMP:20260424T175659
CREATED:20250122T124237Z
LAST-MODIFIED:20250305T113444Z
UID:6082-1751068800-1751115600@lasonrisadellagarto.com
SUMMARY:LA RATITA PRESUMIDA_Biblioteca Jovellanos (Gijón)
DESCRIPTION:LA RATITA PRESUMIDA \n\n\n\nCuento inspirado en el clásico de Charles Perrault\, que narra la historia de una ratita coqueta que cae en las garras de un gato que la seduce con sus requiebros. ¿Se salvará a tiempo la ingenua ratita de las verdaderas intenciones del peligroso felino?
URL:https://lasonrisadellagarto.com/agenda/la-ratita-presumida_biblioteca-jovellanos-gijon/
LOCATION:Biblioteca Pública Jovellanos\, C/ JOVELLANOS 23\, GIJON\, ASTURIAS\, 33206\, España
ATTACH;FMTTYPE=image/jpeg:https://lasonrisadellagarto.com/wp-content/uploads/2024/05/Foto-Arte-en-la-Calle-2024-scaled.jpg
END:VEVENT
BEGIN:VEVENT
DTSTART;TZID=Europe/Madrid:20250722T210000
DTEND;TZID=Europe/Madrid:20250722T220000
DTSTAMP:20260424T175659
CREATED:20250625T060539Z
LAST-MODIFIED:20250625T061021Z
UID:7394-1753218000-1753221600@lasonrisadellagarto.com
SUMMARY:BASURILLA_Plaza Mayor_Chiclana(Cádiz)
DESCRIPTION:Basurilla\, una simpática basurera pasa el día limpiando y recogiendo la basura de las calles. Pero lo que más le gusta es usar la imaginación y s transformar los objetos en juguetes divertidos Es sorprendente las montañas de basura que somos capaces de generar.
URL:https://lasonrisadellagarto.com/agenda/basurilla_plaza-mayor_chiclanacadiz/
ATTACH;FMTTYPE=image/jpeg:https://lasonrisadellagarto.com/wp-content/uploads/2023/04/La-sonrisa-del-lagarto-basurilla-Principal-02.jpg
END:VEVENT
BEGIN:VEVENT
DTSTART;TZID=Europe/Madrid:20250924T000000
DTEND;TZID=Europe/Madrid:20251008T130000
DTSTAMP:20260424T175659
CREATED:20250625T061540Z
LAST-MODIFIED:20250925T173828Z
UID:7400-1758672000-1759928400@lasonrisadellagarto.com
SUMMARY:LA MONA SIMONA_IX Festival GoIden MagnoIia Shanghai InternationaI Puppet FestivaI_II International Excellent Puppetry Presentation_Shangai (China)
DESCRIPTION:LA MONA SIMONA \n\n\n\nColgada de una rama de un milenario Baobab\, la mona Simona espera soñolienta la llegada del alba para saludar al astro rey\, el Sol. A todos los otros animales que pasan por debajo su árbol les invita a ver el gran espectáculo\, y para ahuyentar el sueño y la soledad de la espera\, les pide que le cuente un cuento mientras.
URL:https://lasonrisadellagarto.com/agenda/la-mona-simona_festival-goiden-magnoiia-shanghai-internationai-puppet-festivai_shangai-china/
ATTACH;FMTTYPE=image/jpeg:https://lasonrisadellagarto.com/wp-content/uploads/2025/06/77680-Cartel-La-mona_2023-1.pdf.jpg
END:VEVENT
BEGIN:VEVENT
DTSTART;TZID=Europe/Madrid:20251020T000000
DTEND;TZID=Europe/Madrid:20251030T130000
DTSTAMP:20260424T175659
CREATED:20250625T062503Z
LAST-MODIFIED:20250625T062819Z
UID:7411-1760918400-1761829200@lasonrisadellagarto.com
SUMMARY:XXIV Fitich 2025 - Festival Internacional de Teatro Itinerante por Chiloé Profundo: Fitich.clX y XI Region Patagonia Chilena (Chile)
DESCRIPTION:LA MONA SIMONA – AMARES \n\n\n\nLa Mona Simona y Amares son los dos espectáculos de la compañía con los que vamos a participar en el XXIV Fitich en Chile.
URL:https://lasonrisadellagarto.com/agenda/xxiv-fitich-octubre-2025-festival-internacional-de-teatro-itinerante-por-chiloe-profundo-fitich-clx-y-xi-region-patagonia-chilena-chile/
ATTACH;FMTTYPE=image/jpeg:https://lasonrisadellagarto.com/wp-content/uploads/2017/05/La-Mona-Simona-08.jpg
END:VEVENT
BEGIN:VEVENT
DTSTART;TZID=Europe/Madrid:20251109T000000
DTEND;TZID=Europe/Madrid:20251109T130000
DTSTAMP:20260424T175659
CREATED:20250909T083523Z
LAST-MODIFIED:20251029T174715Z
UID:8221-1762646400-1762693200@lasonrisadellagarto.com
SUMMARY:LA MONA SIMONA_Festival Territorio Violeta_CC Pilar Miró (Madrid)
DESCRIPTION:LA MONA SIMONA \n\n\n\nNuestro espectáculo LA MONA SIMONA ha sido el ganador de la 8ª Edición del Festival Territorio Violeta\, en el FITA Portugal. Colgada de una rama de un milenario Baobab\, la mona Simona espera soñolienta la llegada del alba para saludar al astro rey\, el Sol. A todos los otros animales que pasan por debajo su árbol les invita a ver el gran espectáculo\, y para ahuyentar el sueño y la soledad de la espera\, les pide que le cuente un cuento mientras.
URL:https://lasonrisadellagarto.com/agenda/la-mona-simona_festival-territorio-violeta_cc-pilar-miro-madrid/
LOCATION:Centro Cultural Pilar Miró\, Plaza Antonio María Segovia\, 1\, Vallecas\, Madrid\, 28031\, Spain
ATTACH;FMTTYPE=image/jpeg:https://lasonrisadellagarto.com/wp-content/uploads/2025/10/CARTEL.jpg
END:VEVENT
BEGIN:VEVENT
DTSTART;TZID=Europe/Madrid:20251114T000000
DTEND;TZID=Europe/Madrid:20251114T130000
DTSTAMP:20260424T175659
CREATED:20250625T061831Z
LAST-MODIFIED:20251029T174631Z
UID:7407-1763078400-1763125200@lasonrisadellagarto.com
SUMMARY:LA MONA SIMONA_Encuentros TE VEO (Valladolid)
DESCRIPTION:LA MONA SIMONA \n\n\n\nColgada de una rama de un milenario Baobab\, la mona Simona espera soñolienta la llegada del alba para saludar al astro rey\, el Sol. A todos los otros animales que pasan por debajo su árbol les invita a ver el gran espectáculo\, y para ahuyentar el sueño y la soledad de la espera\, les pide que le cuente un cuento mientras.
URL:https://lasonrisadellagarto.com/agenda/la-mona-simona_encuentros-te-veo-valladolid/
ATTACH;FMTTYPE=image/jpeg:https://lasonrisadellagarto.com/wp-content/uploads/2025/06/77680-Cartel-La-mona_2023-1.pdf.jpg
END:VEVENT
BEGIN:VEVENT
DTSTART;TZID=Europe/Madrid:20251121T200000
DTEND;TZID=Europe/Madrid:20251122T210000
DTSTAMP:20260424T175659
CREATED:20250625T064003Z
LAST-MODIFIED:20250912T065238Z
UID:7424-1763755200-1763845200@lasonrisadellagarto.com
SUMMARY:AMARES_Espacio Escénico TAKTA_ Navalmoral de la Mata
DESCRIPTION:AMARES \n\n\n\nUna historia de amor y amistad casi imposible. Sus protagonistas son Adela\, una mujer extremadamente sensible\, y Aurora\, siempre envuelta en un aura de misterio. Un relato espejo de la fragilidad humana. Como un gato negro que cruza lentamente el camino irrumpe el silencio y desvela la poesía de las palabras agridulces. \n\n\n\n\nEspectaculo Amares
URL:https://lasonrisadellagarto.com/agenda/la-mona-simona_tif-granada_-festival-artes-escenicas/
ATTACH;FMTTYPE=image/jpeg:https://lasonrisadellagarto.com/wp-content/uploads/2023/04/la-sonrisa-del-lagarto-amares-01.jpg
END:VEVENT
BEGIN:VEVENT
DTSTART;TZID=Europe/Madrid:20251123T170000
DTEND;TZID=Europe/Madrid:20251123T180000
DTSTAMP:20260424T175659
CREATED:20250625T063700Z
LAST-MODIFIED:20251115T115339Z
UID:7418-1763917200-1763920800@lasonrisadellagarto.com
SUMMARY:LA MONA SIMONA_XVI Festival de Teatro MERIENDA esCENA_Navalmoral de la Mata
DESCRIPTION:En el Teatro del Mercado de Navalmoral de la Mata\, aterriza nuestra MONA SIMONA\, dentro de la 16 edición del Festival de Teatro y Danza para niños y niñas MERIENDA esCENA\, que se celebra entre el 9 y el 30 de noviembre en Navalmoral de la Mata (Cáceres). \n\n\n\nUn espectáculo sencillamente bello\, inspirado en valores como la amistad y el amor a la naturaleza. Innovador porque mezcla las técnicas del teatro de sombras chinescas\, los títeres y la narración e interpretación. Esta mezcla de técnicas genera un espectáculo revelador\, moderno\, ideal para el disfrute de toda la familia por su creatividad y calidad artística.
URL:https://lasonrisadellagarto.com/agenda/amares-ohia_sala-takta-_navalmoral-de-la-mata-madrid/
LOCATION:Teatro del Mercado\, C/ Joaquín Alcalde\, 9\, Navalmoral de la Mata\, Cáceres\, Spain
ATTACH;FMTTYPE=image/jpeg:https://lasonrisadellagarto.com/wp-content/uploads/2025/11/cartel.jpg
END:VEVENT
BEGIN:VEVENT
DTSTART;TZID=Europe/Madrid:20251127T000000
DTEND;TZID=Europe/Madrid:20251127T130000
DTSTAMP:20260424T175659
CREATED:20250909T103631Z
LAST-MODIFIED:20251118T173233Z
UID:8247-1764201600-1764248400@lasonrisadellagarto.com
SUMMARY:MALAIKA_II Escena en Rede_Muestra de Artes Escénicas de Asturias_Laboral Ciudad de la Cultura(Gijón)
DESCRIPTION:Malaika\, princesa de una manada de elefantes\, vive sobre el lomo de su padre Komba. En un largo viaje para encontrar los bebederos de agua\, se enfrentará a difíciles pruebas y un gran aprendizaje: la memoria es la clave de la supervivencia de los elefantes
URL:https://lasonrisadellagarto.com/agenda/malaika_ii-escena-en-rede_laboral-ciudad-de-la-culturagijon/
END:VEVENT
BEGIN:VEVENT
DTSTART;TZID=Europe/Madrid:20251203T000000
DTEND;TZID=Europe/Madrid:20251203T190000
DTSTAMP:20260424T175659
CREATED:20250725T161403Z
LAST-MODIFIED:20250909T092029Z
UID:7882-1764720000-1764788400@lasonrisadellagarto.com
SUMMARY:LA MONA SIMONA_TIF Granada_ Festival Artes escénicas
DESCRIPTION:LA MONA SIMONA \n\n\n\nColgada de una rama de un milenario Baobab\, la mona Simona espera soñolienta la llegada del alba para saludar al astro rey\, el Sol. A todos los otros animales que pasan por debajo su árbol les invita a ver el gran espectáculo\, y para ahuyentar el sueño y la soledad de la espera\, les pide que le cuente un cuento mientras.
URL:https://lasonrisadellagarto.com/agenda/la-mona-simona_tif-granada_-festival-artes-escenicas-2/
LOCATION:Teatro Municipal del Zaidin\, C/ Pintor Manuel Maldonado s/n\, Granada\, 18007\, Spain
ATTACH;FMTTYPE=image/jpeg:https://lasonrisadellagarto.com/wp-content/uploads/2023/04/slider-la-mona-simona-3.jpg
END:VEVENT
BEGIN:VEVENT
DTSTART;TZID=Europe/Madrid:20251206T193000
DTEND;TZID=Europe/Madrid:20251206T203000
DTSTAMP:20260424T175659
CREATED:20250909T085655Z
LAST-MODIFIED:20251115T113646Z
UID:8227-1765049400-1765053000@lasonrisadellagarto.com
SUMMARY:BASURILLA_Los Barrios(Cádiz)
DESCRIPTION:Basurilla\, una simpática basurera pasa el día limpiando y recogiendo la basura de las calles. Pero lo que más le gusta es usar la imaginación y s transformar los objetos en juguetes divertidos Es sorprendente las montañas de basura que somos capaces de generar.
URL:https://lasonrisadellagarto.com/agenda/basurilla_los-barrioscadiz/
LOCATION:Sala El Pósito\, Plaza de San Isidro nº6\, Los Barrios\, Cádiz\, 11370\, Spain
ATTACH;FMTTYPE=image/jpeg:https://lasonrisadellagarto.com/wp-content/uploads/2025/11/cartel-reprogramacion.jpg
END:VEVENT
BEGIN:VEVENT
DTSTART;TZID=Europe/Madrid:20251213T000000
DTEND;TZID=Europe/Madrid:20251213T130000
DTSTAMP:20260424T175659
CREATED:20250625T064230Z
LAST-MODIFIED:20250912T065001Z
UID:7428-1765584000-1765630800@lasonrisadellagarto.com
SUMMARY:LA MONA SIMONA_Teatro Periferia Cimarronas_Barcelona
DESCRIPTION:LA MONA SIMONA \n\n\n\nColgada de una rama de un milenario Baobab\, la mona Simona espera soñolienta la llegada del alba para saludar al astro rey\, el Sol. A todos los otros animales que pasan por debajo su árbol les invita a ver el gran espectáculo\, y para ahuyentar el sueño y la soledad de la espera\, les pide que le cuente un cuento mientras.
URL:https://lasonrisadellagarto.com/agenda/la-mona-simona_teatro-avanti_cordoba/
ATTACH;FMTTYPE=image/jpeg:https://lasonrisadellagarto.com/wp-content/uploads/2023/04/Espectaculo-La-Mona-Simona-Caratula.jpg
END:VEVENT
BEGIN:VEVENT
DTSTART;TZID=Europe/Madrid:20251220T180000
DTEND;TZID=Europe/Madrid:20251222T190000
DTSTAMP:20260424T175659
CREATED:20251216T184051Z
LAST-MODIFIED:20251216T184054Z
UID:8697-1766253600-1766430000@lasonrisadellagarto.com
SUMMARY:AMARES_Teatro San Francisco- León
DESCRIPTION:AMARES \n\n\n\nUna historia de amor y amistad casi imposible. Sus protagonistas son Adela\, una mujer extremadamente sensible\, y Aurora\, siempre envuelta en un aura de misterio. Un relato espejo de la fragilidad humana. Como un gato negro que cruza lentamente el camino irrumpe el silencio y desvela la poesía de las palabras agridulces. \n\n\n\n\nEspectaculo Amares
URL:https://lasonrisadellagarto.com/agenda/amares_teatro-san-francisco-leon/
LOCATION:Teatro San Francisco\, Calle La Corredera 1\, Leon\, España\, 24004\, España
ATTACH;FMTTYPE=image/jpeg:https://lasonrisadellagarto.com/wp-content/uploads/2023/04/la-sonrisa-del-lagarto-amares-01.jpg
END:VEVENT
BEGIN:VEVENT
DTSTART;TZID=Europe/Madrid:20260213T173000
DTEND;TZID=Europe/Madrid:20260213T183000
DTSTAMP:20260424T175659
CREATED:20251216T190539Z
LAST-MODIFIED:20260113T172124Z
UID:8701-1771003800-1771007400@lasonrisadellagarto.com
SUMMARY:LA RATITA PRESUMIDA_Teatro Auditorio  (Pola de Siero)
DESCRIPTION:LA RATITA PRESUMIDA \n\n\n\nCuento inspirado en el clásico de Charles Perrault\, que narra la historia de una ratita coqueta que cae en las garras de un gato que la seduce con sus requiebros. ¿Se salvará a tiempo la ingenua ratita de las verdaderas intenciones del peligroso felino?
URL:https://lasonrisadellagarto.com/agenda/la-ratita-presumida_teatro-auditorio-pola-de-siero/
ATTACH;FMTTYPE=image/jpeg:https://lasonrisadellagarto.com/wp-content/uploads/2024/05/Foto-Arte-en-la-Calle-2024-scaled.jpg
END:VEVENT
BEGIN:VEVENT
DTSTART;TZID=Europe/Madrid:20260225T103000
DTEND;TZID=Europe/Madrid:20260225T130000
DTSTAMP:20260424T175659
CREATED:20251229T101910Z
LAST-MODIFIED:20251229T102047Z
UID:8768-1772015400-1772024400@lasonrisadellagarto.com
SUMMARY:MALAIKA_FETEN_Laboral Ciudad de la Cultura(Gijón)
DESCRIPTION:Malaika\, princesa de una manada de elefantes\, vive sobre el lomo de su padre Komba. En un largo viaje para encontrar los bebederos de agua\, se enfrentará a difíciles pruebas y un gran aprendizaje: la memoria es la clave de la supervivencia de los elefantes
URL:https://lasonrisadellagarto.com/agenda/malaika_feten_laboral-ciudad-de-la-culturagijon/
ATTACH;FMTTYPE=image/jpeg:https://lasonrisadellagarto.com/wp-content/uploads/2025/12/MALAIKA_Maria-Cabaleiro-12-scaled.jpeg
END:VEVENT
BEGIN:VEVENT
DTSTART;TZID=Europe/Madrid:20260307T180000
DTEND;TZID=Europe/Madrid:20260308T200000
DTSTAMP:20260424T175659
CREATED:20251229T102704Z
LAST-MODIFIED:20251229T102749Z
UID:8773-1772906400-1773000000@lasonrisadellagarto.com
SUMMARY:OHIÁ_Teatro Arbolé(Zaragoza)
DESCRIPTION:OHIÁ \n\n\n\nUn pequeño diente de león en busca de sus lindas esporas\, emprenderá un viaje lleno de aventuras y emociones en el que comprenderá la belleza de la vida. Pequeños insectos\, gigantes renacuajos\, pájaros de colores\, flores exóticas y plantas habladoras le acompañarán en este viaje. \n\n\n\n \n\n\n\n«Ohiá» – La Sonrisa del Lagarto©Luís Aniceto
URL:https://lasonrisadellagarto.com/agenda/ohia_teatro-arbolezaragoza/
ATTACH;FMTTYPE=image/jpeg:https://lasonrisadellagarto.com/wp-content/uploads/2023/04/la-sonrisa-del-lagarto-ohia-06.jpg
END:VEVENT
BEGIN:VEVENT
DTSTART;TZID=Europe/Madrid:20260321T180000
DTEND;TZID=Europe/Madrid:20260321T200000
DTSTAMP:20260424T175659
CREATED:20251229T102923Z
LAST-MODIFIED:20251229T102925Z
UID:8779-1774116000-1774123200@lasonrisadellagarto.com
SUMMARY:OHIÁ_Sábados de Títeres (Cuenca)
DESCRIPTION:OHIÁ \n\n\n\nUn pequeño diente de león en busca de sus lindas esporas\, emprenderá un viaje lleno de aventuras y emociones en el que comprenderá la belleza de la vida. Pequeños insectos\, gigantes renacuajos\, pájaros de colores\, flores exóticas y plantas habladoras le acompañarán en este viaje. \n\n\n\n \n\n\n\n«Ohiá» – La Sonrisa del Lagarto©Luís Aniceto
URL:https://lasonrisadellagarto.com/agenda/ohia_sabados-de-titeres-cuenca/
ATTACH;FMTTYPE=image/jpeg:https://lasonrisadellagarto.com/wp-content/uploads/2024/08/OHIA-Almada-scaled.jpg
END:VEVENT
BEGIN:VEVENT
DTSTART;TZID=Europe/Madrid:20260327T180000
DTEND;TZID=Europe/Madrid:20260327T190000
DTSTAMP:20260424T175659
CREATED:20251229T103122Z
LAST-MODIFIED:20251229T103125Z
UID:8783-1774634400-1774638000@lasonrisadellagarto.com
SUMMARY:LA MONA SIMONA_Casa de Cultura_COLUNGA
DESCRIPTION:LA MONA SIMONA \n\n\n\nColgada de una rama de un milenario Baobab\, la mona Simona espera soñolienta la llegada del alba para saludar al astro rey\, el Sol. A todos los otros animales que pasan por debajo su árbol les invita a ver el gran espectáculo\, y para ahuyentar el sueño y la soledad de la espera\, les pide que le cuente un cuento mientras.
URL:https://lasonrisadellagarto.com/agenda/la-mona-simona_casa-de-cultura_colunga/
ATTACH;FMTTYPE=image/jpeg:https://lasonrisadellagarto.com/wp-content/uploads/2023/04/Espectaculo-La-Mona-Simona-Caratula.jpg
END:VEVENT
BEGIN:VEVENT
DTSTART;TZID=Europe/Madrid:20260423T180000
DTEND;TZID=Europe/Madrid:20260423T190000
DTSTAMP:20260424T175659
CREATED:20260310T071907Z
LAST-MODIFIED:20260310T075123Z
UID:8852-1776967200-1776970800@lasonrisadellagarto.com
SUMMARY:LA MONA SIMONA_San Esteban de Gormaz (Soria)
DESCRIPTION:LA MONA SIMONA \n\n\n\nColgada de una rama de un milenario Baobab\, la mona Simona espera soñolienta la llegada del alba para saludar al astro rey\, el Sol. A todos los otros animales que pasan por debajo su árbol les invita a ver el gran espectáculo\, y para ahuyentar el sueño y la soledad de la espera\, les pide que le cuente un cuento mientras.
URL:https://lasonrisadellagarto.com/agenda/la-mona-simona_san-esteban-de-gormaz-soria/
LOCATION:Salón de Actos Antiguas Escuelas. San Esteban de Gormaz. Soria\, Plaza de las Escuelas\, nº 1.\, San Esteban de Gormaz\, Soria\, 42330\, Spain
ATTACH;FMTTYPE=image/png:https://lasonrisadellagarto.com/wp-content/uploads/2023/04/la-sonrisa-del-lagarto-la-mona-simona-05.png
END:VEVENT
BEGIN:VEVENT
DTSTART;TZID=Europe/Madrid:20260426T180000
DTEND;TZID=Europe/Madrid:20260426T190000
DTSTAMP:20260424T175659
CREATED:20260310T080847Z
LAST-MODIFIED:20260421T165804Z
UID:8875-1777226400-1777230000@lasonrisadellagarto.com
SUMMARY:LA MONA SIMONA_25º Festival Internacional de Teatro Infantil en Taza (Marruecos)
DESCRIPTION:LA MONA SIMONA \n\n\n\nIniciamos gira internacional 2026 en el 25º Festival Internacional de Teatro Infantil en Taza (Marruecos)\, con nuestro laureado espectáculo LA MONA SIMONA.
URL:https://lasonrisadellagarto.com/agenda/la-mona-simona_25o-festival-internacional-de-teatro-infantil-en-taza-marruecos/
ATTACH;FMTTYPE=image/jpeg:https://lasonrisadellagarto.com/wp-content/uploads/2026/03/cartel.jpeg
END:VEVENT
BEGIN:VEVENT
DTSTART;TZID=Europe/Madrid:20260516T180000
DTEND;TZID=Europe/Madrid:20260516T190000
DTSTAMP:20260424T175659
CREATED:20260313T154217Z
LAST-MODIFIED:20260313T154220Z
UID:8966-1778954400-1778958000@lasonrisadellagarto.com
SUMMARY:MALAIKA_Teatro Principal_BURGOS
DESCRIPTION:Malaika\, princesa de una manada de elefantes\, vive sobre el lomo de su padre Komba. En un largo viaje para encontrar los bebederos de agua\, se enfrentará a difíciles pruebas y un gran aprendizaje: la memoria es la clave de la supervivencia de los elefantes
URL:https://lasonrisadellagarto.com/agenda/malaika_teatro-principal_burgos/
LOCATION:Teatro Principal Burgos\, Pl. Mío Cid\, 1\, Burgos\, 09003\, Spain
ATTACH;FMTTYPE=image/jpeg:https://lasonrisadellagarto.com/wp-content/uploads/2025/12/MALAIKA_Maria-Cabaleiro-12-scaled.jpeg
END:VEVENT
BEGIN:VEVENT
DTSTART;TZID=Europe/Madrid:20260614T180000
DTEND;TZID=Europe/Madrid:20260620T190000
DTSTAMP:20260424T175659
CREATED:20260313T155320Z
LAST-MODIFIED:20260421T170445Z
UID:8972-1781460000-1781982000@lasonrisadellagarto.com
SUMMARY:LA MONA SIMONA_Festival de la Palabra de San Luis (Argentina)
DESCRIPTION:LA MONA SIMONA \n\n\n\nCruzamos el charco\, seguimos gira internacional 2026 en el Festival de la Palabra de San Luis (Argentina)\, con nuestro espectáculo LA MONA SIMONA.
URL:https://lasonrisadellagarto.com/agenda/la-mona-simona_festival-de-la-palabra-de-san-luis-argentina/
ATTACH;FMTTYPE=image/png:https://lasonrisadellagarto.com/wp-content/uploads/2026/04/1000175292-2.png
END:VEVENT
END:VCALENDAR