BEGIN:VCALENDAR
VERSION:2.0
PRODID:-//La Sonrisa del Lagarto - ECPv6.13.2.1//NONSGML v1.0//EN
CALSCALE:GREGORIAN
METHOD:PUBLISH
X-ORIGINAL-URL:https://lasonrisadellagarto.com
X-WR-CALDESC:Eventos para La Sonrisa del Lagarto
REFRESH-INTERVAL;VALUE=DURATION:PT1H
X-Robots-Tag:noindex
X-PUBLISHED-TTL:PT1H
BEGIN:VTIMEZONE
TZID:Europe/Madrid
BEGIN:DAYLIGHT
TZOFFSETFROM:+0100
TZOFFSETTO:+0200
TZNAME:CEST
DTSTART:20250330T010000
END:DAYLIGHT
BEGIN:STANDARD
TZOFFSETFROM:+0200
TZOFFSETTO:+0100
TZNAME:CET
DTSTART:20251026T010000
END:STANDARD
END:VTIMEZONE
BEGIN:VEVENT
DTSTART;TZID=Europe/Madrid:20251203T000000
DTEND;TZID=Europe/Madrid:20251203T190000
DTSTAMP:20260424T030201
CREATED:20250725T161403Z
LAST-MODIFIED:20250909T092029Z
UID:7882-1764720000-1764788400@lasonrisadellagarto.com
SUMMARY:LA MONA SIMONA_TIF Granada_ Festival Artes escénicas
DESCRIPTION:LA MONA SIMONA \n\n\n\nColgada de una rama de un milenario Baobab\, la mona Simona espera soñolienta la llegada del alba para saludar al astro rey\, el Sol. A todos los otros animales que pasan por debajo su árbol les invita a ver el gran espectáculo\, y para ahuyentar el sueño y la soledad de la espera\, les pide que le cuente un cuento mientras.
URL:https://lasonrisadellagarto.com/agenda/la-mona-simona_tif-granada_-festival-artes-escenicas-2/
LOCATION:Teatro Municipal del Zaidin\, C/ Pintor Manuel Maldonado s/n\, Granada\, 18007\, Spain
ATTACH;FMTTYPE=image/jpeg:https://lasonrisadellagarto.com/wp-content/uploads/2023/04/slider-la-mona-simona-3.jpg
END:VEVENT
BEGIN:VEVENT
DTSTART;TZID=Europe/Madrid:20251206T193000
DTEND;TZID=Europe/Madrid:20251206T203000
DTSTAMP:20260424T030201
CREATED:20250909T085655Z
LAST-MODIFIED:20251115T113646Z
UID:8227-1765049400-1765053000@lasonrisadellagarto.com
SUMMARY:BASURILLA_Los Barrios(Cádiz)
DESCRIPTION:Basurilla\, una simpática basurera pasa el día limpiando y recogiendo la basura de las calles. Pero lo que más le gusta es usar la imaginación y s transformar los objetos en juguetes divertidos Es sorprendente las montañas de basura que somos capaces de generar.
URL:https://lasonrisadellagarto.com/agenda/basurilla_los-barrioscadiz/
LOCATION:Sala El Pósito\, Plaza de San Isidro nº6\, Los Barrios\, Cádiz\, 11370\, Spain
ATTACH;FMTTYPE=image/jpeg:https://lasonrisadellagarto.com/wp-content/uploads/2025/11/cartel-reprogramacion.jpg
END:VEVENT
BEGIN:VEVENT
DTSTART;TZID=Europe/Madrid:20251213T000000
DTEND;TZID=Europe/Madrid:20251213T130000
DTSTAMP:20260424T030201
CREATED:20250625T064230Z
LAST-MODIFIED:20250912T065001Z
UID:7428-1765584000-1765630800@lasonrisadellagarto.com
SUMMARY:LA MONA SIMONA_Teatro Periferia Cimarronas_Barcelona
DESCRIPTION:LA MONA SIMONA \n\n\n\nColgada de una rama de un milenario Baobab\, la mona Simona espera soñolienta la llegada del alba para saludar al astro rey\, el Sol. A todos los otros animales que pasan por debajo su árbol les invita a ver el gran espectáculo\, y para ahuyentar el sueño y la soledad de la espera\, les pide que le cuente un cuento mientras.
URL:https://lasonrisadellagarto.com/agenda/la-mona-simona_teatro-avanti_cordoba/
ATTACH;FMTTYPE=image/jpeg:https://lasonrisadellagarto.com/wp-content/uploads/2023/04/Espectaculo-La-Mona-Simona-Caratula.jpg
END:VEVENT
BEGIN:VEVENT
DTSTART;TZID=Europe/Madrid:20251220T180000
DTEND;TZID=Europe/Madrid:20251222T190000
DTSTAMP:20260424T030201
CREATED:20251216T184051Z
LAST-MODIFIED:20251216T184054Z
UID:8697-1766253600-1766430000@lasonrisadellagarto.com
SUMMARY:AMARES_Teatro San Francisco- León
DESCRIPTION:AMARES \n\n\n\nUna historia de amor y amistad casi imposible. Sus protagonistas son Adela\, una mujer extremadamente sensible\, y Aurora\, siempre envuelta en un aura de misterio. Un relato espejo de la fragilidad humana. Como un gato negro que cruza lentamente el camino irrumpe el silencio y desvela la poesía de las palabras agridulces. \n\n\n\n\nEspectaculo Amares
URL:https://lasonrisadellagarto.com/agenda/amares_teatro-san-francisco-leon/
LOCATION:Teatro San Francisco\, Calle La Corredera 1\, Leon\, España\, 24004\, España
ATTACH;FMTTYPE=image/jpeg:https://lasonrisadellagarto.com/wp-content/uploads/2023/04/la-sonrisa-del-lagarto-amares-01.jpg
END:VEVENT
END:VCALENDAR