BEGIN:VCALENDAR
VERSION:2.0
PRODID:-//La Sonrisa del Lagarto - ECPv6.13.2.1//NONSGML v1.0//EN
CALSCALE:GREGORIAN
METHOD:PUBLISH
X-WR-CALNAME:La Sonrisa del Lagarto
X-ORIGINAL-URL:https://lasonrisadellagarto.com/en/
X-WR-CALDESC:Events for La Sonrisa del Lagarto
REFRESH-INTERVAL;VALUE=DURATION:PT1H
X-Robots-Tag:noindex
X-PUBLISHED-TTL:PT1H
BEGIN:VTIMEZONE
TZID:UTC
BEGIN:STANDARD
TZOFFSETFROM:+0000
TZOFFSETTO:+0000
TZNAME:UTC
DTSTART:20230101T000000
END:STANDARD
END:VTIMEZONE
BEGIN:VEVENT
DTSTART;TZID=UTC:20230428T100000
DTEND;TZID=UTC:20230428T100000
DTSTAMP:20260424T132413
CREATED:20230128T090038Z
LAST-MODIFIED:20230128T090038Z
UID:4748-1682676000-1682676000@lasonrisadellagarto.com
SUMMARY:La Mona Simona en Topic - Tolosa
DESCRIPTION:Fecha: viernes 28 de ABRIL\nHora: viernes 10:00 horas\nLugar: TOPIC TOLOSA
URL:https://lasonrisadellagarto.com/en/agenda/la-mona-simona-en-topic-tolosa/
LOCATION:españa
ATTACH;FMTTYPE=image/jpeg:https://lasonrisadellagarto.com/wp-content/uploads/2023/03/mona-simona-1500.jpg
END:VEVENT
END:VCALENDAR