BEGIN:VCALENDAR
VERSION:2.0
PRODID:-//La Sonrisa del Lagarto - ECPv6.13.2.1//NONSGML v1.0//EN
CALSCALE:GREGORIAN
METHOD:PUBLISH
X-WR-CALNAME:La Sonrisa del Lagarto
X-ORIGINAL-URL:https://lasonrisadellagarto.com/en/
X-WR-CALDESC:Events for La Sonrisa del Lagarto
REFRESH-INTERVAL;VALUE=DURATION:PT1H
X-Robots-Tag:noindex
X-PUBLISHED-TTL:PT1H
BEGIN:VTIMEZONE
TZID:Europe/Madrid
BEGIN:DAYLIGHT
TZOFFSETFROM:+0100
TZOFFSETTO:+0200
TZNAME:CEST
DTSTART:20230326T010000
END:DAYLIGHT
BEGIN:STANDARD
TZOFFSETFROM:+0200
TZOFFSETTO:+0100
TZNAME:CET
DTSTART:20231029T010000
END:STANDARD
END:VTIMEZONE
BEGIN:VEVENT
DTSTART;TZID=Europe/Madrid:20230624T080000
DTEND;TZID=Europe/Madrid:20230624T170000
DTSTAMP:20260424T103130
CREATED:20230510T145131Z
LAST-MODIFIED:20230510T145131Z
UID:4721-1687593600-1687626000@lasonrisadellagarto.com
SUMMARY:AMARES\, La Presa . Un Lugar de encuentro alternativo - Lerma
DESCRIPTION:Una historia de amor y amistad casi imposible. Sus protagonistas son Adela\, una mujer extremadamente sensible\, y Aurora\, siempre envuelta en un aura de misterio. Un relato espejo de la fragilidad humana. Como un gato negro que cruza lentamente el camino irrumpe el silencio y desvela la poesía de las palabras agridulces. \n\n\n\n\n\naaaaa
URL:https://lasonrisadellagarto.com/en/agenda/amares/
LOCATION:españa
ATTACH;FMTTYPE=image/jpeg:https://lasonrisadellagarto.com/wp-content/uploads/2023/04/la-sonrisa-del-lagarto-amares-01-1.jpg
END:VEVENT
END:VCALENDAR