BEGIN:VCALENDAR
VERSION:2.0
PRODID:-//La Sonrisa del Lagarto - ECPv6.13.2.1//NONSGML v1.0//EN
CALSCALE:GREGORIAN
METHOD:PUBLISH
X-WR-CALNAME:La Sonrisa del Lagarto
X-ORIGINAL-URL:https://lasonrisadellagarto.com/en/
X-WR-CALDESC:Events for La Sonrisa del Lagarto
REFRESH-INTERVAL;VALUE=DURATION:PT1H
X-Robots-Tag:noindex
X-PUBLISHED-TTL:PT1H
BEGIN:VTIMEZONE
TZID:Europe/Madrid
BEGIN:DAYLIGHT
TZOFFSETFROM:+0100
TZOFFSETTO:+0200
TZNAME:CEST
DTSTART:20230326T010000
END:DAYLIGHT
BEGIN:STANDARD
TZOFFSETFROM:+0200
TZOFFSETTO:+0100
TZNAME:CET
DTSTART:20231029T010000
END:STANDARD
END:VTIMEZONE
BEGIN:VEVENT
DTSTART;TZID=Europe/Madrid:20231021T190000
DTEND;TZID=Europe/Madrid:20231022T123000
DTSTAMP:20260424T042946
CREATED:20230907T120659Z
LAST-MODIFIED:20230907T120659Z
UID:4706-1697914800-1697977800@lasonrisadellagarto.com
SUMMARY:LA MONA SIMONA Sala Maltravieso\, Cáceres_ VII Festival Escena Fronteriza
DESCRIPTION:Un espectáculo sencillamente bello\, inspirado en valores como la amistad y el amor a la naturaleza. Innovador porque mezcla las técnicas del teatro de sombras chinescas\, los títeres y la narración e interpretación.
URL:https://lasonrisadellagarto.com/en/agenda/la-mona-simona-sala-maltravieso-caceres/
LOCATION:Sala Maltravieso – Caceres\, C/ Parras nº23 - bajo\, Caceres\, España\, 10004\, España
ATTACH;FMTTYPE=image/jpeg:https://lasonrisadellagarto.com/wp-content/uploads/2023/09/CARTEL-LA-MONA_sALA-mALTRAVIESO.jpg
END:VEVENT
END:VCALENDAR