BEGIN:VCALENDAR
VERSION:2.0
PRODID:-//La Sonrisa del Lagarto - ECPv6.13.2.1//NONSGML v1.0//EN
CALSCALE:GREGORIAN
METHOD:PUBLISH
X-WR-CALNAME:La Sonrisa del Lagarto
X-ORIGINAL-URL:https://lasonrisadellagarto.com/en/
X-WR-CALDESC:Events for La Sonrisa del Lagarto
REFRESH-INTERVAL;VALUE=DURATION:PT1H
X-Robots-Tag:noindex
X-PUBLISHED-TTL:PT1H
BEGIN:VTIMEZONE
TZID:Europe/Madrid
BEGIN:DAYLIGHT
TZOFFSETFROM:+0100
TZOFFSETTO:+0200
TZNAME:CEST
DTSTART:20230326T010000
END:DAYLIGHT
BEGIN:STANDARD
TZOFFSETFROM:+0200
TZOFFSETTO:+0100
TZNAME:CET
DTSTART:20231029T010000
END:STANDARD
END:VTIMEZONE
BEGIN:VEVENT
DTSTART;TZID=Europe/Madrid:20231028T180000
DTEND;TZID=Europe/Madrid:20231029T180000
DTSTAMP:20260424T042944
CREATED:20231020T155016Z
LAST-MODIFIED:20231020T155016Z
UID:4697-1698516000-1698602400@lasonrisadellagarto.com
SUMMARY:LA MONA SIMONA Sala Negra\, Logroño
DESCRIPTION:Espectaculo La Mona Simona\n\n\n\nUn espectáculo sencillamente bello\, inspirado en valores como la amistad y el amor a la naturaleza. Innovador porque mezcla las técnicas del teatro de sombras chinescas\, los títeres y la narración e interpretación.
URL:https://lasonrisadellagarto.com/en/agenda/la-mona-simona-sala-negra-logrono/
LOCATION:españa
ATTACH;FMTTYPE=image/jpeg:https://lasonrisadellagarto.com/wp-content/uploads/2023/04/Espectaculo-La-Mona-Simona-Caratula.jpg
ORGANIZER;CN="Sala Negra Logro%C3%B1o":MAILTO:info@sala-negra.com
END:VEVENT
END:VCALENDAR