BEGIN:VCALENDAR
VERSION:2.0
PRODID:-//La Sonrisa del Lagarto - ECPv6.13.2.1//NONSGML v1.0//EN
CALSCALE:GREGORIAN
METHOD:PUBLISH
X-ORIGINAL-URL:https://lasonrisadellagarto.com/en/
X-WR-CALDESC:Events for La Sonrisa del Lagarto
REFRESH-INTERVAL;VALUE=DURATION:PT1H
X-Robots-Tag:noindex
X-PUBLISHED-TTL:PT1H
BEGIN:VTIMEZONE
TZID:Europe/Madrid
BEGIN:DAYLIGHT
TZOFFSETFROM:+0100
TZOFFSETTO:+0200
TZNAME:CEST
DTSTART:20230326T010000
END:DAYLIGHT
BEGIN:STANDARD
TZOFFSETFROM:+0200
TZOFFSETTO:+0100
TZNAME:CET
DTSTART:20231029T010000
END:STANDARD
END:VTIMEZONE
BEGIN:VEVENT
DTSTART;TZID=Europe/Madrid:20231209T200000
DTEND;TZID=Europe/Madrid:20231209T210000
DTSTAMP:20260424T013752
CREATED:20231204T081606Z
LAST-MODIFIED:20231204T081606Z
UID:4684-1702152000-1702155600@lasonrisadellagarto.com
SUMMARY:OHIÁ\, Espai La Bayca_ Hospitalet de Llobregat
DESCRIPTION:Ohiá\, un pequeño diente de león en busca de sus lindas esporas\, emprenderá un viaje lleno de aventuras y emociones en el que comprenderá la belleza de la vida. Pequeños insectos\, gigantes renacueajos\, pájaros de colores\, flores exóticas y plantas habladoras le acompañarán en este viaje. Brotar\, florecer\, marchitar y… volver a brotar. fusiona la técnica de sombras chinescas con el mecanismo de la caja crankie y la música en directo.
URL:https://lasonrisadellagarto.com/en/agenda/ohia-espai-la-bayca_-hospitalet-de-llobregar/
LOCATION:Espai  La Bayca\, Carrer de Buenos Aires 19\, hospitalet de llobregar\, España\, 08902\, España
ATTACH;FMTTYPE=image/jpeg:https://lasonrisadellagarto.com/wp-content/uploads/2023/04/Espectaculo-OHIA-Caratula.jpg
ORGANIZER;CN="ESPAI LA BAYCA":MAILTO:espailabayka@gmail.com
END:VEVENT
END:VCALENDAR