BEGIN:VCALENDAR
VERSION:2.0
PRODID:-//La Sonrisa del Lagarto - ECPv6.13.2.1//NONSGML v1.0//EN
CALSCALE:GREGORIAN
METHOD:PUBLISH
X-WR-CALNAME:La Sonrisa del Lagarto
X-ORIGINAL-URL:https://lasonrisadellagarto.com/en/
X-WR-CALDESC:Events for La Sonrisa del Lagarto
REFRESH-INTERVAL;VALUE=DURATION:PT1H
X-Robots-Tag:noindex
X-PUBLISHED-TTL:PT1H
BEGIN:VTIMEZONE
TZID:Europe/Madrid
BEGIN:DAYLIGHT
TZOFFSETFROM:+0100
TZOFFSETTO:+0200
TZNAME:CEST
DTSTART:20240331T010000
END:DAYLIGHT
BEGIN:STANDARD
TZOFFSETFROM:+0200
TZOFFSETTO:+0100
TZNAME:CET
DTSTART:20241027T010000
END:STANDARD
END:VTIMEZONE
BEGIN:VEVENT
DTSTART;TZID=Europe/Madrid:20240817T200000
DTEND;TZID=Europe/Madrid:20240817T210000
DTSTAMP:20260423T134747
CREATED:20240703T062244Z
LAST-MODIFIED:20240813T062918Z
UID:4636-1723924800-1723928400@lasonrisadellagarto.com
SUMMARY:LA MONA SIMONA_Festival Títeres en la Montaña(Ribagorza - Huesca)
DESCRIPTION:LA MONA SIMONA \n\n\n\nColgada de una rama de un milenario Baobab\, la mona Simona espera soñolienta la llegada del alba para saludar al astro rey\, el Sol. A todos los otros animales que pasan por debajo su árbol les invita a ver el gran espectáculo\, y para ahuyentar el sueño y la soledad de la espera\, les pide que le cuente un cuento mientras.
URL:https://lasonrisadellagarto.com/en/agenda/la-mona-simona_festival-titeres-en-la-montanaribagorza-huesca/
LOCATION:Ribagorza\, C.Única\, 72\,\, Aguinalíu Huesca\, Spain\, españa\, 22588\,\, España
ATTACH;FMTTYPE=image/jpeg:https://lasonrisadellagarto.com/wp-content/uploads/2024/07/Cartel.jpg
END:VEVENT
END:VCALENDAR