BEGIN:VCALENDAR
VERSION:2.0
PRODID:-//La Sonrisa del Lagarto - ECPv6.13.2.1//NONSGML v1.0//EN
CALSCALE:GREGORIAN
METHOD:PUBLISH
X-ORIGINAL-URL:https://lasonrisadellagarto.com/en/
X-WR-CALDESC:Events for La Sonrisa del Lagarto
REFRESH-INTERVAL;VALUE=DURATION:PT1H
X-Robots-Tag:noindex
X-PUBLISHED-TTL:PT1H
BEGIN:VTIMEZONE
TZID:Europe/Madrid
BEGIN:DAYLIGHT
TZOFFSETFROM:+0100
TZOFFSETTO:+0200
TZNAME:CEST
DTSTART:20240331T010000
END:DAYLIGHT
BEGIN:STANDARD
TZOFFSETFROM:+0200
TZOFFSETTO:+0100
TZNAME:CET
DTSTART:20241027T010000
END:STANDARD
END:VTIMEZONE
BEGIN:VEVENT
DTSTART;TZID=Europe/Madrid:20241229T180000
DTEND;TZID=Europe/Madrid:20241229T200000
DTSTAMP:20260423T082058
CREATED:20240422T145512Z
LAST-MODIFIED:20250702T103200Z
UID:4649-1735495200-1735502400@lasonrisadellagarto.com
SUMMARY:OHIÁ_Sala Negra(Logroño)
DESCRIPTION:LA MONA SIMONA \n\n\n\nOhiá\, un pequeño diente de león en busca de sus lindas esporas\, emprenderá un viaje lleno de aventuras y emociones en el que comprenderá la belleza de la vida. Pequeños insectos\, gigantes renacuajos\, pájaros de colores\, flores exóticas y plantas habladoras le acompañarán en este viaje.
URL:https://lasonrisadellagarto.com/en/agenda/ohia_sala-negralogrono/
LOCATION:Sala Negra\, C/ Lardero nº35\, Logroño La Rioja\, España\, 26002\, España
ATTACH;FMTTYPE=image/jpeg:https://lasonrisadellagarto.com/wp-content/uploads/2023/07/OHIA-slider-portada-01.jpg
END:VEVENT
END:VCALENDAR