BEGIN:VCALENDAR
VERSION:2.0
PRODID:-//La Sonrisa del Lagarto - ECPv6.13.2.1//NONSGML v1.0//EN
CALSCALE:GREGORIAN
METHOD:PUBLISH
X-WR-CALNAME:La Sonrisa del Lagarto
X-ORIGINAL-URL:https://lasonrisadellagarto.com/en/
X-WR-CALDESC:Events for La Sonrisa del Lagarto
REFRESH-INTERVAL;VALUE=DURATION:PT1H
X-Robots-Tag:noindex
X-PUBLISHED-TTL:PT1H
BEGIN:VTIMEZONE
TZID:Europe/Madrid
BEGIN:DAYLIGHT
TZOFFSETFROM:+0100
TZOFFSETTO:+0200
TZNAME:CEST
DTSTART:20250330T010000
END:DAYLIGHT
BEGIN:STANDARD
TZOFFSETFROM:+0200
TZOFFSETTO:+0100
TZNAME:CET
DTSTART:20251026T010000
END:STANDARD
END:VTIMEZONE
BEGIN:VEVENT
DTSTART;TZID=Europe/Madrid:20250323T180000
DTEND;TZID=Europe/Madrid:20250323T190000
DTSTAMP:20260423T034122
CREATED:20250702T103223Z
LAST-MODIFIED:20250702T103223Z
UID:6107-1742752800-1742756400@lasonrisadellagarto.com
SUMMARY:LA RATITA PRESUMIDA_Corvera
DESCRIPTION:LA RATITA PRESUMIDA \n\n\n\nCuento inspirado en el clásico de Charles Perrault\, que narra la historia de una ratita coqueta que cae en las garras de un gato que la seduce con sus requiebros. ¿Se salvará a tiempo la ingenua ratita de las verdaderas intenciones del peligroso felino?
URL:https://lasonrisadellagarto.com/en/agenda/la-ratita-presumida_corvera-4/
LOCATION:españa
ATTACH;FMTTYPE=image/jpeg:https://lasonrisadellagarto.com/wp-content/uploads/2024/05/Foto-Arte-en-la-Calle-2024-scaled.jpg
END:VEVENT
END:VCALENDAR