BEGIN:VCALENDAR
VERSION:2.0
PRODID:-//La Sonrisa del Lagarto - ECPv6.13.2.1//NONSGML v1.0//EN
CALSCALE:GREGORIAN
METHOD:PUBLISH
X-ORIGINAL-URL:https://lasonrisadellagarto.com/en/
X-WR-CALDESC:Events for La Sonrisa del Lagarto
REFRESH-INTERVAL;VALUE=DURATION:PT1H
X-Robots-Tag:noindex
X-PUBLISHED-TTL:PT1H
BEGIN:VTIMEZONE
TZID:Europe/Madrid
BEGIN:DAYLIGHT
TZOFFSETFROM:+0100
TZOFFSETTO:+0200
TZNAME:CEST
DTSTART:20250330T010000
END:DAYLIGHT
BEGIN:STANDARD
TZOFFSETFROM:+0200
TZOFFSETTO:+0100
TZNAME:CET
DTSTART:20251026T010000
END:STANDARD
END:VTIMEZONE
BEGIN:VEVENT
DTSTART;TZID=Europe/Madrid:20250325T101500
DTEND;TZID=Europe/Madrid:20250325T101500
DTSTAMP:20260423T034338
CREATED:20250702T103227Z
LAST-MODIFIED:20250702T103227Z
UID:6073-1742897700-1742897700@lasonrisadellagarto.com
SUMMARY:OHIÁ_Sala Negra(Logroño)
DESCRIPTION:LA MONA SIMONA \n\n\n\nOhiá\, un pequeño diente de león en busca de sus lindas esporas\, emprenderá un viaje lleno de aventuras y emociones en el que comprenderá la belleza de la vida. Pequeños insectos\, gigantes renacuajos\, pájaros de colores\, flores exóticas y plantas habladoras le acompañarán en este viaje.
URL:https://lasonrisadellagarto.com/en/agenda/ohia_sala-negralogrono-2/
LOCATION:Teatro Guirigai\, C/ Virgen del Pilar\, 2\, Los Santos de Maimona\, Badajoz\, 06230\, España
ATTACH;FMTTYPE=image/jpeg:https://lasonrisadellagarto.com/wp-content/uploads/2023/04/la-sonrisa-del-lagarto-ohia-06.jpg
END:VEVENT
END:VCALENDAR