BEGIN:VCALENDAR
VERSION:2.0
PRODID:-//La Sonrisa del Lagarto - ECPv6.13.2.1//NONSGML v1.0//EN
CALSCALE:GREGORIAN
METHOD:PUBLISH
X-ORIGINAL-URL:https://lasonrisadellagarto.com/en/
X-WR-CALDESC:Events for La Sonrisa del Lagarto
REFRESH-INTERVAL;VALUE=DURATION:PT1H
X-Robots-Tag:noindex
X-PUBLISHED-TTL:PT1H
BEGIN:VTIMEZONE
TZID:Europe/Madrid
BEGIN:DAYLIGHT
TZOFFSETFROM:+0100
TZOFFSETTO:+0200
TZNAME:CEST
DTSTART:20250330T010000
END:DAYLIGHT
BEGIN:STANDARD
TZOFFSETFROM:+0200
TZOFFSETTO:+0100
TZNAME:CET
DTSTART:20251026T010000
END:STANDARD
END:VTIMEZONE
BEGIN:VEVENT
DTSTART;TZID=Europe/Madrid:20250924T000000
DTEND;TZID=Europe/Madrid:20251008T130000
DTSTAMP:20260423T004818
CREATED:20250702T103102Z
LAST-MODIFIED:20250702T103102Z
UID:7401-1758672000-1759928400@lasonrisadellagarto.com
SUMMARY:LA MONA SIMONA_Teatro Avanti (Córdoba)
DESCRIPTION:LA MONA SIMONA \n\n\n\nColgada de una rama de un milenario Baobab\, la mona Simona espera soñolienta la llegada del alba para saludar al astro rey\, el Sol. A todos los otros animales que pasan por debajo su árbol les invita a ver el gran espectáculo\, y para ahuyentar el sueño y la soledad de la espera\, les pide que le cuente un cuento mientras. \n\n\n\nEspectaculo La Mona Simona
URL:https://lasonrisadellagarto.com/en/agenda/la-mona-simona_teatro-avanti-cordoba/
LOCATION:españa
ATTACH;FMTTYPE=image/jpeg:https://lasonrisadellagarto.com/wp-content/uploads/2025/06/77680-Cartel-La-mona_2023-1.pdf.jpg
END:VEVENT
BEGIN:VEVENT
DTSTART;TZID=Europe/Madrid:20251020T000000
DTEND;TZID=Europe/Madrid:20251030T130000
DTSTAMP:20260423T004818
CREATED:20250702T103107Z
LAST-MODIFIED:20250702T103107Z
UID:7412-1760918400-1761829200@lasonrisadellagarto.com
SUMMARY:LA MONA SIMONA_Teatro Avanti (Córdoba)
DESCRIPTION:LA MONA SIMONA \n\n\n\nColgada de una rama de un milenario Baobab\, la mona Simona espera soñolienta la llegada del alba para saludar al astro rey\, el Sol. A todos los otros animales que pasan por debajo su árbol les invita a ver el gran espectáculo\, y para ahuyentar el sueño y la soledad de la espera\, les pide que le cuente un cuento mientras. \n\n\n\nEspectaculo La Mona Simona
URL:https://lasonrisadellagarto.com/en/agenda/la-mona-simona_teatro-avanti-cordoba-2/
LOCATION:españa
ATTACH;FMTTYPE=image/jpeg:https://lasonrisadellagarto.com/wp-content/uploads/2017/05/La-Mona-Simona-08.jpg
END:VEVENT
BEGIN:VEVENT
DTSTART;TZID=Europe/Madrid:20251114T000000
DTEND;TZID=Europe/Madrid:20251114T130000
DTSTAMP:20260423T004818
CREATED:20250702T103119Z
LAST-MODIFIED:20250702T103119Z
UID:7408-1763078400-1763125200@lasonrisadellagarto.com
SUMMARY:LA MONA SIMONA_Teatro Avanti (Córdoba)
DESCRIPTION:LA MONA SIMONA \n\n\n\nColgada de una rama de un milenario Baobab\, la mona Simona espera soñolienta la llegada del alba para saludar al astro rey\, el Sol. A todos los otros animales que pasan por debajo su árbol les invita a ver el gran espectáculo\, y para ahuyentar el sueño y la soledad de la espera\, les pide que le cuente un cuento mientras. \n\n\n\nEspectaculo La Mona Simona
URL:https://lasonrisadellagarto.com/en/agenda/la-mona-simona_teatro-avanti-cordoba-3/
LOCATION:españa
ATTACH;FMTTYPE=image/jpeg:https://lasonrisadellagarto.com/wp-content/uploads/2025/06/77680-Cartel-La-mona_2023-1.pdf.jpg
END:VEVENT
BEGIN:VEVENT
DTSTART;TZID=Europe/Madrid:20251121T200000
DTEND;TZID=Europe/Madrid:20251122T210000
DTSTAMP:20260423T004818
CREATED:20250702T103126Z
LAST-MODIFIED:20250702T103126Z
UID:7425-1763755200-1763845200@lasonrisadellagarto.com
SUMMARY:LA MONA SIMONA_Teatro Avanti (Córdoba)
DESCRIPTION:LA MONA SIMONA \n\n\n\nColgada de una rama de un milenario Baobab\, la mona Simona espera soñolienta la llegada del alba para saludar al astro rey\, el Sol. A todos los otros animales que pasan por debajo su árbol les invita a ver el gran espectáculo\, y para ahuyentar el sueño y la soledad de la espera\, les pide que le cuente un cuento mientras. \n\n\n\nEspectaculo La Mona Simona
URL:https://lasonrisadellagarto.com/en/agenda/la-mona-simona_teatro-avanti-cordoba-4/
LOCATION:españa
ATTACH;FMTTYPE=image/jpeg:https://lasonrisadellagarto.com/wp-content/uploads/2023/04/la-sonrisa-del-lagarto-amares-01.jpg
END:VEVENT
BEGIN:VEVENT
DTSTART;TZID=Europe/Madrid:20251123T170000
DTEND;TZID=Europe/Madrid:20251123T180000
DTSTAMP:20260423T004818
CREATED:20250702T103113Z
LAST-MODIFIED:20250702T103113Z
UID:7419-1763917200-1763920800@lasonrisadellagarto.com
SUMMARY:AMARES_Monterubio de la Serena (Badajoz) RED DE TEATROS DE EXTREMADURA
DESCRIPTION:Una historia de amor y amistad casi imposible. Sus protagonistas son Adela\, una mujer extremadamente sensible\, y Aurora\, siempre envuelta en un aura de misterio. Un relato espejo de la fragilidad humana. Como un gato negro que cruza lentamente el camino irrumpe el silencio y desvela la poesía de las palabras agridulces.
URL:https://lasonrisadellagarto.com/en/agenda/amares_monterubio-de-la-serena-badajoz-red-de-teatros-de-extremadura-2/
LOCATION:Teatro del Mercado\, C/ Joaquín Alcalde\, 9\, Navalmoral de la Mata\, Cáceres\, Spain
ATTACH;FMTTYPE=image/jpeg:https://lasonrisadellagarto.com/wp-content/uploads/2025/11/cartel.jpg
END:VEVENT
BEGIN:VEVENT
DTSTART;TZID=Europe/Madrid:20251213T000000
DTEND;TZID=Europe/Madrid:20251213T130000
DTSTAMP:20260423T004818
CREATED:20250702T103130Z
LAST-MODIFIED:20250702T103955Z
UID:7429-1765584000-1765630800@lasonrisadellagarto.com
SUMMARY:LA MONA SIMONA_Teatro Avanti (Córdoba)
DESCRIPTION:LA MONA SIMONA \n\n\n\nColgada de una rama de un milenario Baobab\, la mona Simona espera soñolienta la llegada del alba para saludar al astro rey\, el Sol. A todos los otros animales que pasan por debajo su árbol les invita a ver el gran espectáculo\, y para ahuyentar el sueño y la soledad de la espera\, les pide que le cuente un cuento mientras. \n\n\n\nEspectaculo La Mona Simona
URL:https://lasonrisadellagarto.com/en/agenda/la-mona-simona_teatro-avanti-cordoba-5/
LOCATION:españa
ATTACH;FMTTYPE=image/jpeg:https://lasonrisadellagarto.com/wp-content/uploads/2023/04/Espectaculo-La-Mona-Simona-Caratula.jpg
END:VEVENT
END:VCALENDAR