BEGIN:VCALENDAR
VERSION:2.0
PRODID:-//La Sonrisa del Lagarto - ECPv6.13.2.1//NONSGML v1.0//EN
CALSCALE:GREGORIAN
METHOD:PUBLISH
X-WR-CALNAME:La Sonrisa del Lagarto
X-ORIGINAL-URL:https://lasonrisadellagarto.com/en/
X-WR-CALDESC:Events for La Sonrisa del Lagarto
REFRESH-INTERVAL;VALUE=DURATION:PT1H
X-Robots-Tag:noindex
X-PUBLISHED-TTL:PT1H
BEGIN:VTIMEZONE
TZID:Europe/Madrid
BEGIN:DAYLIGHT
TZOFFSETFROM:+0100
TZOFFSETTO:+0200
TZNAME:CEST
DTSTART:20230326T010000
END:DAYLIGHT
BEGIN:STANDARD
TZOFFSETFROM:+0200
TZOFFSETTO:+0100
TZNAME:CET
DTSTART:20231029T010000
END:STANDARD
END:VTIMEZONE
BEGIN:VEVENT
DTSTART;TZID=Europe/Madrid:20230924T180000
DTEND;TZID=Europe/Madrid:20231008T180000
DTSTAMP:20260424T043109
CREATED:20230907T113314Z
LAST-MODIFIED:20230907T113314Z
UID:4712-1695578400-1696788000@lasonrisadellagarto.com
SUMMARY:LA MONA SIMONA Red Colombiana de Festivales de Teatro de Títeres TITERECOLOMBIA\, Cartagena de Indias\,  Medellín y Popayán (¡ampliada gira a Bogotá y Armenia!)
DESCRIPTION:Nuestra Mona Simona vuelve a cruzar el charco saltando de rama en rama\, en una gira que nos llevará a 5 ciudades colombianas: Cartagena de Indias\, Medellín\, Popayán\, Bogotá y Armenia. \n\n\n\n\n\n\n\n\n\nNuestra Mona Simona vuelve a cruzar el charco saltando de rama en rama\, en una gira que nos llevará a Cartagena\, Medellín y Popayán. Un espectáculo sencillamente bello\, inspirado en valores como la amistad y el amor a la naturaleza. Innovador porque mezcla las técnicas del teatro de sombras chinescas\, los títeres y la narración e interpretación.
URL:https://lasonrisadellagarto.com/en/agenda/la-mona-simona-festival-internacional-de-titeres-titerecolombia-colombia/
LOCATION:Colombia
CATEGORIES:Actuaciones
ATTACH;FMTTYPE=image/png:https://lasonrisadellagarto.com/wp-content/uploads/2023/04/la-sonrisa-del-lagarto-la-mona-simona-00.png
END:VEVENT
END:VCALENDAR