BEGIN:VCALENDAR
VERSION:2.0
PRODID:-//La Sonrisa del Lagarto - ECPv6.13.2.1//NONSGML v1.0//EN
CALSCALE:GREGORIAN
METHOD:PUBLISH
X-WR-CALNAME:La Sonrisa del Lagarto
X-ORIGINAL-URL:https://lasonrisadellagarto.com/pt-br/
X-WR-CALDESC:Eventos para La Sonrisa del Lagarto
REFRESH-INTERVAL;VALUE=DURATION:PT1H
X-Robots-Tag:noindex
X-PUBLISHED-TTL:PT1H
BEGIN:VTIMEZONE
TZID:UTC
BEGIN:STANDARD
TZOFFSETFROM:+0000
TZOFFSETTO:+0000
TZNAME:UTC
DTSTART:20230101T000000
END:STANDARD
END:VTIMEZONE
BEGIN:VEVENT
DTSTART;TZID=UTC:20230416T110000
DTEND;TZID=UTC:20230416T110000
DTSTAMP:20260424T122414
CREATED:20230414T073300Z
LAST-MODIFIED:20230414T073300Z
UID:4738-1681642800-1681642800@lasonrisadellagarto.com
SUMMARY:La Mona Simona en el Centro Dramático Nacional - Madrid
DESCRIPTION:Hora: a las 11:00 h y las 13:00h\nLugar: Centro Dramático Nacional – Madrid -Teatro Valle Inclán\, Sala El Mirlo Blanco\nSinopsis: Colgada de una rama de un milenario Baobab\, la mona Simona espera soñolienta la llegada del alba para saludar al astro rey\, el Sol. A todos los otros animales que pasan por debajo su árbol les invita a ver el gran espectáculo\, y para ahuyentar el sueño y la soledad de la espera\, les pide que le cuente un cuento mientras.
URL:https://lasonrisadellagarto.com/pt-br/agenda/la-mona-simona-en-el-centro-dramatico-nacional-madrid-2/
LOCATION:Centro Dramático Nacional\, Madrid\, Madrid\, España
ATTACH;FMTTYPE=image/jpeg:https://lasonrisadellagarto.com/wp-content/uploads/2023/03/mona-simona-1500.jpg
END:VEVENT
END:VCALENDAR