BEGIN:VCALENDAR
VERSION:2.0
PRODID:-//La Sonrisa del Lagarto - ECPv6.13.2.1//NONSGML v1.0//EN
CALSCALE:GREGORIAN
METHOD:PUBLISH
X-WR-CALNAME:La Sonrisa del Lagarto
X-ORIGINAL-URL:https://lasonrisadellagarto.com/pt-br/
X-WR-CALDESC:Eventos para La Sonrisa del Lagarto
REFRESH-INTERVAL;VALUE=DURATION:PT1H
X-Robots-Tag:noindex
X-PUBLISHED-TTL:PT1H
BEGIN:VTIMEZONE
TZID:UTC
BEGIN:STANDARD
TZOFFSETFROM:+0000
TZOFFSETTO:+0000
TZNAME:UTC
DTSTART:20230101T000000
END:STANDARD
END:VTIMEZONE
BEGIN:VEVENT
DTSTART;TZID=UTC:20230610T193000
DTEND;TZID=UTC:20230610T193000
DTSTAMP:20260424T090225
CREATED:20230114T193005Z
LAST-MODIFIED:20230114T193005Z
UID:4753-1686425400-1686425400@lasonrisadellagarto.com
SUMMARY:BASURILLA en el Postigo Abierto\,  Oviedo
DESCRIPTION:Basurilla\, una simpática basurera pasa el día limpiando y recogiendo la basura de las calles. Pero lo que más le gusta es usar la imaginación y transformar los objetos en juguetes divertidos. Es sorprendente las montañas de basura que somos capaces de generar.
URL:https://lasonrisadellagarto.com/pt-br/agenda/amares-en-el-auditorio-jose-barrera-pravia/
LOCATION:Postigo Abierto (Escuela de Danza Elisa)\, C. del Postigo Bajo\, 21\, Oviedo\, Asturias\, 33009\, España
ATTACH;FMTTYPE=image/jpeg:https://lasonrisadellagarto.com/wp-content/uploads/2023/04/Espectaculo-Basurilla-Caratula.jpg
END:VEVENT
END:VCALENDAR