BEGIN:VCALENDAR
VERSION:2.0
PRODID:-//La Sonrisa del Lagarto - ECPv6.13.2.1//NONSGML v1.0//EN
CALSCALE:GREGORIAN
METHOD:PUBLISH
X-ORIGINAL-URL:https://lasonrisadellagarto.com/pt-br/
X-WR-CALDESC:Eventos para La Sonrisa del Lagarto
REFRESH-INTERVAL;VALUE=DURATION:PT1H
X-Robots-Tag:noindex
X-PUBLISHED-TTL:PT1H
BEGIN:VTIMEZONE
TZID:Europe/Madrid
BEGIN:DAYLIGHT
TZOFFSETFROM:+0100
TZOFFSETTO:+0200
TZNAME:CEST
DTSTART:20230326T010000
END:DAYLIGHT
BEGIN:STANDARD
TZOFFSETFROM:+0200
TZOFFSETTO:+0100
TZNAME:CET
DTSTART:20231029T010000
END:STANDARD
END:VTIMEZONE
BEGIN:VEVENT
DTSTART;TZID=Europe/Madrid:20231230T193000
DTEND;TZID=Europe/Madrid:20231230T203000
DTSTAMP:20260423T235806
CREATED:20231204T082858Z
LAST-MODIFIED:20231204T082858Z
UID:4682-1703964600-1703968200@lasonrisadellagarto.com
SUMMARY:OHIÁ\, Puebla de la Calzada_Festival The Atreves
DESCRIPTION:Ohiá\, un pequeño diente de león en busca de sus lindas esporas\, emprenderá un viaje lleno de aventuras y emociones en el que comprenderá la belleza de la vida. Pequeños insectos\, gigantes renacueajos\, pájaros de colores\, flores exóticas y plantas habladoras le acompañarán en este viaje. Brotar\, florecer\, marchitar y… volver a brotar. fusiona la técnica de sombras chinescas con el mecanismo de la caja crankie y la música en directo.
URL:https://lasonrisadellagarto.com/pt-br/agenda/ohia-puebla-de-la-calzada_festival-the-atreves/
LOCATION:Casa de Cultura Puebla de la Calzada\, Plaza de España 2\, Puebla de la Calzada- Badajoz\, España\, 06490\, España
ATTACH;FMTTYPE=image/jpeg:https://lasonrisadellagarto.com/wp-content/uploads/2023/12/cartel-promocional-1.jpg
END:VEVENT
END:VCALENDAR