BEGIN:VCALENDAR
VERSION:2.0
PRODID:-//La Sonrisa del Lagarto - ECPv6.13.2.1//NONSGML v1.0//EN
CALSCALE:GREGORIAN
METHOD:PUBLISH
X-ORIGINAL-URL:https://lasonrisadellagarto.com/pt-br/
X-WR-CALDESC:Eventos para La Sonrisa del Lagarto
REFRESH-INTERVAL;VALUE=DURATION:PT1H
X-Robots-Tag:noindex
X-PUBLISHED-TTL:PT1H
BEGIN:VTIMEZONE
TZID:Europe/Madrid
BEGIN:DAYLIGHT
TZOFFSETFROM:+0100
TZOFFSETTO:+0200
TZNAME:CEST
DTSTART:20240331T010000
END:DAYLIGHT
BEGIN:STANDARD
TZOFFSETFROM:+0200
TZOFFSETTO:+0100
TZNAME:CET
DTSTART:20241027T010000
END:STANDARD
END:VTIMEZONE
BEGIN:VEVENT
DTSTART;TZID=Europe/Madrid:20240922T180000
DTEND;TZID=Europe/Madrid:20240927T180000
DTSTAMP:20260423T111041
CREATED:20240703T063356Z
LAST-MODIFIED:20240827T101056Z
UID:4635-1727028000-1727460000@lasonrisadellagarto.com
SUMMARY:LA MONA SIMONA _XXI Subotica International Festival of Children's Theatres
DESCRIPTION:Un espectáculo sencillamente bello\, inspirado en valores como la amistad y el amor a la naturaleza. Innovador porque mezcla las técnicas del teatro de sombras chinescas\, los títeres y la narración e interpretación.
URL:https://lasonrisadellagarto.com/pt-br/agenda/la-mona-simona-_xxi-subotica-international-festival-of-childrens-theatres/
LOCATION:Subotica Serbia\, Trg Cara Jovana Nenada 15\, Subotica\, Serbia\, 24000\, Serbia
CATEGORIES:Actuaciones
ATTACH;FMTTYPE=image/jpeg:https://lasonrisadellagarto.com/wp-content/uploads/2024/08/subotica-2024.jpeg
ORGANIZER;CN="Open University Subotica":MAILTO:lutfestsubotica@gmail.com
END:VEVENT
END:VCALENDAR