BEGIN:VCALENDAR
VERSION:2.0
PRODID:-//La Sonrisa del Lagarto - ECPv6.13.2.1//NONSGML v1.0//EN
CALSCALE:GREGORIAN
METHOD:PUBLISH
X-ORIGINAL-URL:https://lasonrisadellagarto.com/pt-br/
X-WR-CALDESC:Eventos para La Sonrisa del Lagarto
REFRESH-INTERVAL;VALUE=DURATION:PT1H
X-Robots-Tag:noindex
X-PUBLISHED-TTL:PT1H
BEGIN:VTIMEZONE
TZID:Europe/Madrid
BEGIN:DAYLIGHT
TZOFFSETFROM:+0100
TZOFFSETTO:+0200
TZNAME:CEST
DTSTART:20240331T010000
END:DAYLIGHT
BEGIN:STANDARD
TZOFFSETFROM:+0200
TZOFFSETTO:+0100
TZNAME:CET
DTSTART:20241027T010000
END:STANDARD
END:VTIMEZONE
BEGIN:VEVENT
DTSTART;TZID=Europe/Madrid:20241213T123000
DTEND;TZID=Europe/Madrid:20241213T133000
DTSTAMP:20260423T065244
CREATED:20240704T070058Z
LAST-MODIFIED:20241212T071802Z
UID:4614-1734093000-1734096600@lasonrisadellagarto.com
SUMMARY:LA MONA SIMONA_Valencia de Alcántara (Cáceres) RED DE TEATROS DE EXTREMADURA
DESCRIPTION:LA MONA SIMONA \n\n\n\nColgada de una rama de un milenario Baobab\, la mona Simona espera soñolienta la llegada del alba para saludar al astro rey\, el Sol. A todos los otros animales que pasan por debajo su árbol les invita a ver el gran espectáculo\, y para ahuyentar el sueño y la soledad de la espera\, les pide que le cuente un cuento mientras.
URL:https://lasonrisadellagarto.com/pt-br/agenda/la-mona-simona_valencia-de-alcantara-caceres-red-de-teatros-de-extremadura/
LOCATION:españa
ATTACH;FMTTYPE=image/png:https://lasonrisadellagarto.com/wp-content/uploads/2023/04/la-sonrisa-del-lagarto-la-mona-simona-05.png
END:VEVENT
END:VCALENDAR