BEGIN:VCALENDAR
VERSION:2.0
PRODID:-//La Sonrisa del Lagarto - ECPv6.13.2.1//NONSGML v1.0//EN
CALSCALE:GREGORIAN
METHOD:PUBLISH
X-WR-CALNAME:La Sonrisa del Lagarto
X-ORIGINAL-URL:https://lasonrisadellagarto.com/pt-br/
X-WR-CALDESC:Eventos para La Sonrisa del Lagarto
REFRESH-INTERVAL;VALUE=DURATION:PT1H
X-Robots-Tag:noindex
X-PUBLISHED-TTL:PT1H
BEGIN:VTIMEZONE
TZID:UTC
BEGIN:STANDARD
TZOFFSETFROM:+0000
TZOFFSETTO:+0000
TZNAME:UTC
DTSTART:20230101T000000
END:STANDARD
END:VTIMEZONE
BEGIN:VTIMEZONE
TZID:Europe/Madrid
BEGIN:DAYLIGHT
TZOFFSETFROM:+0100
TZOFFSETTO:+0200
TZNAME:CEST
DTSTART:20230326T010000
END:DAYLIGHT
BEGIN:STANDARD
TZOFFSETFROM:+0200
TZOFFSETTO:+0100
TZNAME:CET
DTSTART:20231029T010000
END:STANDARD
END:VTIMEZONE
BEGIN:VEVENT
DTSTART;TZID=UTC:20230506T110000
DTEND;TZID=UTC:20230506T110000
DTSTAMP:20260424T090239
CREATED:20230404T091232Z
LAST-MODIFIED:20230404T091232Z
UID:4745-1683370800-1683370800@lasonrisadellagarto.com
SUMMARY:OHIA en la Biblioteca Pública de Castilla y León - Valladolid
DESCRIPTION:Ohiá\, un pequeño diente de león en busca de sus lindas esporas\, emprenderá un viaje lleno de aventuras y emociones en el que comprenderá la belleza de la vida. Pequeños insectos\, gigantes renacueajos\, pájaros de colores\, flores exóticas y plantas habladoras le acompañarán en este viaje.
URL:https://lasonrisadellagarto.com/pt-br/agenda/ohia-en-la-biblioteca-publica-de-castilla-y-leon-valladolid/
LOCATION:Biblioteca Pública de Castilla y León – Valladolid\, Plaza Trinidad\, 2\,\, Valladolid\, Castilla y León\, 47003
ATTACH;FMTTYPE=image/jpeg:https://lasonrisadellagarto.com/wp-content/uploads/2023/04/la-sonrisa-del-lagarto-Almada-OHIA-36.jpg
END:VEVENT
BEGIN:VEVENT
DTSTART;TZID=UTC:20230520T180000
DTEND;TZID=UTC:20230520T193000
DTSTAMP:20260424T090240
CREATED:20230404T093158Z
LAST-MODIFIED:20230404T093158Z
UID:4741-1684605600-1684611000@lasonrisadellagarto.com
SUMMARY:OHIA en el Festival Titeresi - Lugones
DESCRIPTION:Ohiá\, un pequeño diente de león en busca de sus lindas esporas\, emprenderá un viaje lleno de aventuras y emociones en el que comprenderá la belleza de la vida. Pequeños insectos\, gigantes renacueajos\, pájaros de colores\, flores exóticas y plantas habladoras le acompañarán en este viaje.
URL:https://lasonrisadellagarto.com/pt-br/agenda/ohia-en-el-festival-de-titeres-lugones/
LOCATION:Centro Polivalente de Lugones\, C. de Leopoldo Lugones\, 31\, Lugones\, Principado de Asturias\, 33420
ATTACH;FMTTYPE=image/jpeg:https://lasonrisadellagarto.com/wp-content/uploads/2023/05/ohia-1500x900-1.jpg
END:VEVENT
BEGIN:VEVENT
DTSTART;TZID=Europe/Madrid:20230526T223000
DTEND;TZID=Europe/Madrid:20230526T230000
DTSTAMP:20260424T090240
CREATED:20230505T065047Z
LAST-MODIFIED:20230505T065047Z
UID:4733-1685140200-1685142000@lasonrisadellagarto.com
SUMMARY:OHIÁ Escena en Rede\, Muestra d’Artes Escéniques\, Sala de las Pinturas\, Universidad Laboral\, Gijón
DESCRIPTION:Ohiá\, un pequeño diente de león en busca de sus lindas esporas\, emprenderá un viaje lleno de aventuras y emociones en el que comprenderá la belleza de la vida. Pequeños insectos\, gigantes renacueajos\, pájaros de colores\, flores exóticas y plantas habladoras le acompañarán en este viaje.
URL:https://lasonrisadellagarto.com/pt-br/agenda/ohia-escena-en-rede-muestra-dartes-esceniques-sala-de-las-pinturas-universidad-laboral-gijon/
LOCATION:Universidad Laboral\, Gijón\, C. Luis Moya Blanco\, 261\,\, Gijón\, Principado de Asturias\, 33203\, España
ATTACH;FMTTYPE=image/jpeg:https://lasonrisadellagarto.com/wp-content/uploads/2023/04/la-sonrisa-del-lagarto-Almada-OHIA-33.jpg
END:VEVENT
END:VCALENDAR