BEGIN:VCALENDAR
VERSION:2.0
PRODID:-//La Sonrisa del Lagarto - ECPv6.13.2.1//NONSGML v1.0//EN
CALSCALE:GREGORIAN
METHOD:PUBLISH
X-ORIGINAL-URL:https://lasonrisadellagarto.com/pt-br/
X-WR-CALDESC:Eventos para La Sonrisa del Lagarto
REFRESH-INTERVAL;VALUE=DURATION:PT1H
X-Robots-Tag:noindex
X-PUBLISHED-TTL:PT1H
BEGIN:VTIMEZONE
TZID:Europe/Madrid
BEGIN:DAYLIGHT
TZOFFSETFROM:+0100
TZOFFSETTO:+0200
TZNAME:CEST
DTSTART:20240331T010000
END:DAYLIGHT
BEGIN:STANDARD
TZOFFSETFROM:+0200
TZOFFSETTO:+0100
TZNAME:CET
DTSTART:20241027T010000
END:STANDARD
END:VTIMEZONE
BEGIN:VEVENT
DTSTART;TZID=Europe/Madrid:20240203T180000
DTEND;TZID=Europe/Madrid:20240203T190000
DTSTAMP:20260423T191621
CREATED:20231205T091159Z
LAST-MODIFIED:20231205T091159Z
UID:4673-1706983200-1706986800@lasonrisadellagarto.com
SUMMARY:LA MONA SIMONA_Teatro Alkazar (Plasencia)
DESCRIPTION:LA MONA SIMONA \n\n\n\nColgada de una rama de un milenario Baobab\, la mona Simona espera soñolienta la llegada del alba para saludar al astro rey\, el Sol. A todos los otros animales que pasan por debajo su árbol les invita a ver el gran espectáculo\, y para ahuyentar el sueño y la soledad de la espera\, les pide que le cuente un cuento mientras.
URL:https://lasonrisadellagarto.com/pt-br/agenda/la-mona-simona_teatro-alcazar-plasencia/
LOCATION:Teatro Alkazar\, C. Cruz de Sta. Ana\, s/n\, Plasencia - Cáceres\, españa\, 10600\, España
ATTACH;FMTTYPE=image/jpeg:https://lasonrisadellagarto.com/wp-content/uploads/2023/04/la-sonrisa-del-lagarto-la-mona-simona-26.jpg
END:VEVENT
BEGIN:VEVENT
DTSTART;TZID=Europe/Madrid:20240224T180000
DTEND;TZID=Europe/Madrid:20240224T190000
DTSTAMP:20260423T191621
CREATED:20240123T184558Z
LAST-MODIFIED:20240123T184558Z
UID:4664-1708797600-1708801200@lasonrisadellagarto.com
SUMMARY:LA MONA SIMONA_Centro Cultural Palacio de la Audiencia(Soria)
DESCRIPTION:LA MONA SIMONA \n\n\n\n\n\n\n\nColgada de una rama de un milenario Baobab\, la mona Simona espera soñolienta la llegada del alba para saludar al astro rey\, el Sol. A todos los otros animales que pasan por debajo su árbol les invita a ver el gran espectáculo\, y para ahuyentar el sueño y la soledad de la espera\, les pide que le cuente un cuento mientras.
URL:https://lasonrisadellagarto.com/pt-br/agenda/la-mona-simona_centro-cultural-palacio-de-la-audienciasoria/
LOCATION:Centro Cultural Palacio de la Audiencia\, Plaza Mayor s/n\, Soria\, España\, 42002\, España
ATTACH;FMTTYPE=image/jpeg:https://lasonrisadellagarto.com/wp-content/uploads/2023/04/Espectaculo-La-Mona-Simona-Caratula.jpg
END:VEVENT
END:VCALENDAR