BEGIN:VCALENDAR
VERSION:2.0
PRODID:-//La Sonrisa del Lagarto - ECPv6.13.2.1//NONSGML v1.0//EN
CALSCALE:GREGORIAN
METHOD:PUBLISH
X-ORIGINAL-URL:https://lasonrisadellagarto.com/pt-br/
X-WR-CALDESC:Eventos para La Sonrisa del Lagarto
REFRESH-INTERVAL;VALUE=DURATION:PT1H
X-Robots-Tag:noindex
X-PUBLISHED-TTL:PT1H
BEGIN:VTIMEZONE
TZID:Europe/Madrid
BEGIN:DAYLIGHT
TZOFFSETFROM:+0100
TZOFFSETTO:+0200
TZNAME:CEST
DTSTART:20240331T010000
END:DAYLIGHT
BEGIN:STANDARD
TZOFFSETFROM:+0200
TZOFFSETTO:+0100
TZNAME:CET
DTSTART:20241027T010000
END:STANDARD
END:VTIMEZONE
BEGIN:VEVENT
DTSTART;TZID=Europe/Madrid:20240514T180000
DTEND;TZID=Europe/Madrid:20240519T180000
DTSTAMP:20260423T151941
CREATED:20240124T072443Z
LAST-MODIFIED:20240124T072443Z
UID:4659-1715709600-1716141600@lasonrisadellagarto.com
SUMMARY:LA MONA SIMONA _XV Festival Internacional de Títeres FESTITIM 2024_Matanzas (Cuba(
DESCRIPTION:Nuestra Mona Simona vuelve a cruzar el charco saltando de rama en rama\, en una gira que nos llevará a Cuba.
URL:https://lasonrisadellagarto.com/pt-br/agenda/la-mona-simona-_xv-festival-internacional-de-titeres-festitim-2024_matanzas-cuba/
LOCATION:Colombia
CATEGORIES:Actuaciones
ATTACH;FMTTYPE=image/jpeg:https://lasonrisadellagarto.com/wp-content/uploads/2024/01/cartel-festival.jpg
END:VEVENT
BEGIN:VEVENT
DTSTART;TZID=Europe/Madrid:20240531T180000
DTEND;TZID=Europe/Madrid:20240531T190000
DTSTAMP:20260423T151941
CREATED:20240125T075800Z
LAST-MODIFIED:20240125T075800Z
UID:4654-1717178400-1717182000@lasonrisadellagarto.com
SUMMARY:LA MONA SIMONA_Miajadas (Cáceres)
DESCRIPTION:LA MONA SIMONA \n\n\n\nColgada de una rama de un milenario Baobab\, la mona Simona espera soñolienta la llegada del alba para saludar al astro rey\, el Sol. A todos los otros animales que pasan por debajo su árbol les invita a ver el gran espectáculo\, y para ahuyentar el sueño y la soledad de la espera\, les pide que le cuente un cuento mientras.
URL:https://lasonrisadellagarto.com/pt-br/agenda/la-mona-simona_miajadas-caceres/
LOCATION:Casa de Cultura Massa Solís\, Plaza Juan de Austria s/n\, Miajadas\, Extremadura\, 10100\, España
ATTACH;FMTTYPE=image/jpeg:https://lasonrisadellagarto.com/wp-content/uploads/2023/04/Espectaculo-La-Mona-Simona-Caratula.jpg
END:VEVENT
END:VCALENDAR