BEGIN:VCALENDAR
VERSION:2.0
PRODID:-//La Sonrisa del Lagarto - ECPv6.13.2.1//NONSGML v1.0//EN
CALSCALE:GREGORIAN
METHOD:PUBLISH
X-ORIGINAL-URL:https://lasonrisadellagarto.com/pt-br/
X-WR-CALDESC:Eventos para La Sonrisa del Lagarto
REFRESH-INTERVAL;VALUE=DURATION:PT1H
X-Robots-Tag:noindex
X-PUBLISHED-TTL:PT1H
BEGIN:VTIMEZONE
TZID:Europe/Madrid
BEGIN:DAYLIGHT
TZOFFSETFROM:+0100
TZOFFSETTO:+0200
TZNAME:CEST
DTSTART:20240331T010000
END:DAYLIGHT
BEGIN:STANDARD
TZOFFSETFROM:+0200
TZOFFSETTO:+0100
TZNAME:CET
DTSTART:20241027T010000
END:STANDARD
END:VTIMEZONE
BEGIN:VEVENT
DTSTART;TZID=Europe/Madrid:20241124T180000
DTEND;TZID=Europe/Madrid:20241124T190000
DTSTAMP:20260423T065323
CREATED:20240704T064823Z
LAST-MODIFIED:20240704T064823Z
UID:4623-1732471200-1732474800@lasonrisadellagarto.com
SUMMARY:AMARES_Monterubio de la Serena (Badajoz) RED DE TEATROS DE EXTREMADURA
DESCRIPTION:Una historia de amor y amistad casi imposible. Sus protagonistas son Adela\, una mujer extremadamente sensible\, y Aurora\, siempre envuelta en un aura de misterio. Un relato espejo de la fragilidad humana. Como un gato negro que cruza lentamente el camino irrumpe el silencio y desvela la poesía de las palabras agridulces.
URL:https://lasonrisadellagarto.com/pt-br/agenda/amares_monterubio-de-la-serena-badajoz-red-de-teatros-de-extremadura/
LOCATION:españa
ATTACH;FMTTYPE=image/jpeg:https://lasonrisadellagarto.com/wp-content/uploads/2023/04/la-sonrisa-del-lagarto-amares-07-1-scaled.jpg
END:VEVENT
BEGIN:VEVENT
DTSTART;TZID=Europe/Madrid:20241126T180000
DTEND;TZID=Europe/Madrid:20241126T190000
DTSTAMP:20260423T065323
CREATED:20240531T065151Z
LAST-MODIFIED:20240930T184618Z
UID:4646-1732644000-1732647600@lasonrisadellagarto.com
SUMMARY:LA MONA SIMONA_Teatro Tyl tyl
DESCRIPTION:LA MONA SIMONA \n\n\n\nColgada de una rama de un milenario Baobab\, la mona Simona espera soñolienta la llegada del alba para saludar al astro rey\, el Sol. A todos los otros animales que pasan por debajo su árbol les invita a ver el gran espectáculo\, y para ahuyentar el sueño y la soledad de la espera\, les pide que le cuente un cuento mientras.
URL:https://lasonrisadellagarto.com/pt-br/agenda/la-mona-simona_teatro-tyl-tyl/
LOCATION:Teatro Tyl Tyl\, C. de la Iglesia\, 2\, 28600 Navalcarnero\, Madrid\, Madrid\, Madrid\, 28600\, España
ATTACH;FMTTYPE=image/jpeg:https://lasonrisadellagarto.com/wp-content/uploads/2023/04/Espectaculo-La-Mona-Simona-Caratula.jpg
END:VEVENT
BEGIN:VEVENT
DTSTART;TZID=Europe/Madrid:20241130T180000
DTEND;TZID=Europe/Madrid:20241201T200000
DTSTAMP:20260423T065323
CREATED:20240704T065156Z
LAST-MODIFIED:20240704T065156Z
UID:4620-1732989600-1733083200@lasonrisadellagarto.com
SUMMARY:OHIÁ_Teatro Tarambana(Madrid)
DESCRIPTION:LA MONA SIMONA \n\n\n\nOhiá\, un pequeño diente de león en busca de sus lindas esporas\, emprenderá un viaje lleno de aventuras y emociones en el que comprenderá la belleza de la vida. Pequeños insectos\, gigantes renacuajos\, pájaros de colores\, flores exóticas y plantas habladoras le acompañarán en este viaje.
URL:https://lasonrisadellagarto.com/pt-br/agenda/ohia_teatro-tarambanamadrid/
LOCATION:Teatro Tarambana\, C/ Dolores Armengot\, 31\, Madrid\, Madrid\, 28025\, España
ATTACH;FMTTYPE=image/jpeg:https://lasonrisadellagarto.com/wp-content/uploads/2023/04/la-sonrisa-del-lagarto-ohia-12.jpg
END:VEVENT
END:VCALENDAR